BEGIN:VCALENDAR
PRODID:-//eluceo/ical//2.0/EN
VERSION:2.0
CALSCALE:GREGORIAN
BEGIN:VEVENT
UID:e8faca067fe89375c4cd7e2948365a4d
DTSTAMP:20260423T191842Z
SUMMARY:Better Scenes (1/6)
DESCRIPTION:taught by Will Hines\nat Online
DTSTART;TZID=America/Los_Angeles:20210707T170000
DTEND;TZID=America/Los_Angeles:20210707T190000
LOCATION:Online
END:VEVENT
BEGIN:VEVENT
UID:fcfb33f43db3c2ee1dba3751b4c70310
DTSTAMP:20260423T191842Z
SUMMARY:Better Scenes (2/6)
DESCRIPTION:taught by Will Hines\nat Online
DTSTART;TZID=America/Los_Angeles:20210714T170000
DTEND;TZID=America/Los_Angeles:20210714T190000
LOCATION:Online
END:VEVENT
BEGIN:VEVENT
UID:6c6fe296e03035c6c0fb5bc940008c59
DTSTAMP:20260423T191842Z
SUMMARY:Better Scenes (3/6)
DESCRIPTION:taught by Will Hines\nat Online
DTSTART;TZID=America/Los_Angeles:20210721T170000
DTEND;TZID=America/Los_Angeles:20210721T190000
LOCATION:Online
END:VEVENT
BEGIN:VEVENT
UID:817907e99b71e89aabd8c4d818f3a890
DTSTAMP:20260423T191842Z
SUMMARY:Better Scenes (4/6)
DESCRIPTION:taught by Will Hines\nat Online
DTSTART;TZID=America/Los_Angeles:20210728T170000
DTEND;TZID=America/Los_Angeles:20210728T190000
LOCATION:Online
END:VEVENT
BEGIN:VEVENT
UID:ae8835f241547d8712dc3d9e822352ed
DTSTAMP:20260423T191842Z
SUMMARY:Better Scenes (5/6)
DESCRIPTION:taught by Will Hines\nat Online
DTSTART;TZID=America/Los_Angeles:20210804T170000
DTEND;TZID=America/Los_Angeles:20210804T190000
LOCATION:Online
END:VEVENT
BEGIN:VEVENT
UID:792b7ca7bc0ff4276dfd9f8de2d26ed8
DTSTAMP:20260423T191842Z
SUMMARY:Better Scenes (6/6)
DESCRIPTION:taught by Will Hines\nat Online
DTSTART;TZID=America/Los_Angeles:20210811T170000
DTEND;TZID=America/Los_Angeles:20210811T180000
LOCATION:Online
END:VEVENT
BEGIN:VTIMEZONE
TZID:America/Los_Angeles
BEGIN:DAYLIGHT
DTSTART:20260401T000000
TZNAME:PDT
TZOFFSETTO:-0700
TZOFFSETFROM:-0700
END:DAYLIGHT
END:VTIMEZONE
END:VCALENDAR
