BEGIN:VCALENDAR
PRODID:-//eluceo/ical//2.0/EN
VERSION:2.0
CALSCALE:GREGORIAN
BEGIN:VEVENT
UID:2b95336d4dd07c71096846a736178848
DTSTAMP:20260423T192059Z
SUMMARY:Simplifying Game (1/6)
DESCRIPTION:taught by Sarah Claspell\nat Online
DTSTART;TZID=America/Los_Angeles:20210708T110000
DTEND;TZID=America/Los_Angeles:20210708T130000
LOCATION:Online
END:VEVENT
BEGIN:VEVENT
UID:5a91c12f6867133bcc89a865d93c7912
DTSTAMP:20260423T192059Z
SUMMARY:Simplifying Game (2/6)
DESCRIPTION:taught by Sarah Claspell\nat Online
DTSTART;TZID=America/Los_Angeles:20210715T110000
DTEND;TZID=America/Los_Angeles:20210715T130000
LOCATION:Online
END:VEVENT
BEGIN:VEVENT
UID:3d69563e0b0f1c748a91a881c09c3e30
DTSTAMP:20260423T192059Z
SUMMARY:Simplifying Game (3/6)
DESCRIPTION:taught by Sarah Claspell\nat Online
DTSTART;TZID=America/Los_Angeles:20210722T110000
DTEND;TZID=America/Los_Angeles:20210722T130000
LOCATION:Online
END:VEVENT
BEGIN:VEVENT
UID:2440407a23d7c126f6a5a051040c1f23
DTSTAMP:20260423T192059Z
SUMMARY:Simplifying Game (4/6)
DESCRIPTION:taught by Sarah Claspell\nat Online
DTSTART;TZID=America/Los_Angeles:20210729T110000
DTEND;TZID=America/Los_Angeles:20210729T130000
LOCATION:Online
END:VEVENT
BEGIN:VEVENT
UID:ec7227a20e6a72596ed9aa034e1cdd64
DTSTAMP:20260423T192059Z
SUMMARY:Simplifying Game (5/6)
DESCRIPTION:taught by Sarah Claspell\nat Online
DTSTART;TZID=America/Los_Angeles:20210805T110000
DTEND;TZID=America/Los_Angeles:20210805T130000
LOCATION:Online
END:VEVENT
BEGIN:VEVENT
UID:9c326dfe1ac8fd544d30306d3d1033a4
DTSTAMP:20260423T192059Z
SUMMARY:Simplifying Game (6/6)
DESCRIPTION:taught by Sarah Claspell\nat Online
DTSTART;TZID=America/Los_Angeles:20210812T110000
DTEND;TZID=America/Los_Angeles:20210812T120000
LOCATION:Online
END:VEVENT
BEGIN:VTIMEZONE
TZID:America/Los_Angeles
BEGIN:DAYLIGHT
DTSTART:20260401T000000
TZNAME:PDT
TZOFFSETTO:-0700
TZOFFSETFROM:-0700
END:DAYLIGHT
END:VTIMEZONE
END:VCALENDAR
