BEGIN:VCALENDAR
PRODID:-//eluceo/ical//2.0/EN
VERSION:2.0
CALSCALE:GREGORIAN
BEGIN:VEVENT
UID:fc3e4a38f5e8a1566065787b3bee2607
DTSTAMP:20260423T192203Z
SUMMARY:The Glen (1/6)
DESCRIPTION:taught by Jason Perez\nat Online
DTSTART;TZID=America/Los_Angeles:20210710T110000
DTEND;TZID=America/Los_Angeles:20210710T130000
LOCATION:Online
END:VEVENT
BEGIN:VEVENT
UID:948076f1b9e628a6652069b0e7534365
DTSTAMP:20260423T192203Z
SUMMARY:The Glen (2/6)
DESCRIPTION:taught by Jason Perez\nat Online
DTSTART;TZID=America/Los_Angeles:20210717T110000
DTEND;TZID=America/Los_Angeles:20210717T130000
LOCATION:Online
END:VEVENT
BEGIN:VEVENT
UID:cacdd161247cfe72de20645a08a802cd
DTSTAMP:20260423T192203Z
SUMMARY:The Glen (3/6)
DESCRIPTION:taught by Jason Perez\nat Online
DTSTART;TZID=America/Los_Angeles:20210724T110000
DTEND;TZID=America/Los_Angeles:20210724T130000
LOCATION:Online
END:VEVENT
BEGIN:VEVENT
UID:9e86b4186fc97a684d8c5b8fa960140c
DTSTAMP:20260423T192203Z
SUMMARY:The Glen (4/6)
DESCRIPTION:taught by Jason Perez\nat Online
DTSTART;TZID=America/Los_Angeles:20210731T110000
DTEND;TZID=America/Los_Angeles:20210731T130000
LOCATION:Online
END:VEVENT
BEGIN:VEVENT
UID:c9f9e732e3db3d94acb9b358bcdfda79
DTSTAMP:20260423T192203Z
SUMMARY:The Glen (5/6)
DESCRIPTION:taught by Jason Perez\nat Online
DTSTART;TZID=America/Los_Angeles:20210807T110000
DTEND;TZID=America/Los_Angeles:20210807T130000
LOCATION:Online
END:VEVENT
BEGIN:VEVENT
UID:f497fab7169dcb201e14cc327bce8f51
DTSTAMP:20260423T192203Z
SUMMARY:The Glen (6/6)
DESCRIPTION:taught by Jason Perez\nat Online
DTSTART;TZID=America/Los_Angeles:20210814T110000
DTEND;TZID=America/Los_Angeles:20210814T130000
LOCATION:Online
END:VEVENT
BEGIN:VTIMEZONE
TZID:America/Los_Angeles
BEGIN:DAYLIGHT
DTSTART:20260401T000000
TZNAME:PDT
TZOFFSETTO:-0700
TZOFFSETFROM:-0700
END:DAYLIGHT
END:VTIMEZONE
END:VCALENDAR
