BEGIN:VCALENDAR
PRODID:-//eluceo/ical//2.0/EN
VERSION:2.0
CALSCALE:GREGORIAN
BEGIN:VEVENT
UID:6f05ade499202fe476e6929289c0e0f5
DTSTAMP:20260426T012837Z
SUMMARY:For The Love of Characters (1/4)
DESCRIPTION:taught by Michelle Gilliam\nat Online
DTSTART;TZID=America/Los_Angeles:20210720T170000
DTEND;TZID=America/Los_Angeles:20210720T190000
LOCATION:Online
END:VEVENT
BEGIN:VEVENT
UID:77b0c6606d172deba4f8e589df8e702e
DTSTAMP:20260426T012837Z
SUMMARY:For The Love of Characters (2/4)
DESCRIPTION:taught by Michelle Gilliam\nat Online
DTSTART;TZID=America/Los_Angeles:20210727T170000
DTEND;TZID=America/Los_Angeles:20210727T190000
LOCATION:Online
END:VEVENT
BEGIN:VEVENT
UID:ad8c0c873e2899729664c64f9cfa4dda
DTSTAMP:20260426T012837Z
SUMMARY:For The Love of Characters (3/4)
DESCRIPTION:taught by Michelle Gilliam\nat Online
DTSTART;TZID=America/Los_Angeles:20210803T170000
DTEND;TZID=America/Los_Angeles:20210803T190000
LOCATION:Online
END:VEVENT
BEGIN:VEVENT
UID:f2a3cd0fa07426966e9683e05d187226
DTSTAMP:20260426T012837Z
SUMMARY:For The Love of Characters (4/4)
DESCRIPTION:taught by Michelle Gilliam\nat Online
DTSTART;TZID=America/Los_Angeles:20210810T170000
DTEND;TZID=America/Los_Angeles:20210810T190000
LOCATION:Online
END:VEVENT
BEGIN:VTIMEZONE
TZID:America/Los_Angeles
BEGIN:DAYLIGHT
DTSTART:20260401T000000
TZNAME:PDT
TZOFFSETTO:-0700
TZOFFSETFROM:-0700
END:DAYLIGHT
END:VTIMEZONE
END:VCALENDAR
