BEGIN:VCALENDAR
PRODID:-//eluceo/ical//2.0/EN
VERSION:2.0
CALSCALE:GREGORIAN
BEGIN:VEVENT
UID:44808b16e53082b505a138eea9bf0522
DTSTAMP:20260423T192009Z
SUMMARY:2 Person Scenes with Notes (1/1)
DESCRIPTION:taught by Ronnie Adrian\nat Online
DTSTART;TZID=America/Los_Angeles:20210821T110000
DTEND;TZID=America/Los_Angeles:20210821T130000
LOCATION:Online
END:VEVENT
BEGIN:VTIMEZONE
TZID:America/Los_Angeles
BEGIN:DAYLIGHT
DTSTART:20260401T000000
TZNAME:PDT
TZOFFSETTO:-0700
TZOFFSETFROM:-0700
END:DAYLIGHT
END:VTIMEZONE
END:VCALENDAR
