BEGIN:VCALENDAR
PRODID:-//eluceo/ical//2.0/EN
VERSION:2.0
CALSCALE:GREGORIAN
BEGIN:VEVENT
UID:a750dc7655fbb23b6f67b79aa3585c8d
DTSTAMP:20260426T012836Z
SUMMARY:Creating Worlds In Your Scenes (1/1)
DESCRIPTION:taught by Ronnie Adrian\nat Online
DTSTART;TZID=America/Los_Angeles:20210826T110000
DTEND;TZID=America/Los_Angeles:20210826T130000
LOCATION:Online
END:VEVENT
BEGIN:VTIMEZONE
TZID:America/Los_Angeles
BEGIN:DAYLIGHT
DTSTART:20260401T000000
TZNAME:PDT
TZOFFSETTO:-0700
TZOFFSETFROM:-0700
END:DAYLIGHT
END:VTIMEZONE
END:VCALENDAR
