BEGIN:VCALENDAR
PRODID:-//eluceo/ical//2.0/EN
VERSION:2.0
CALSCALE:GREGORIAN
BEGIN:VEVENT
UID:f9a53dd3a197f693bd90474120bf9d59
DTSTAMP:20260423T160046Z
SUMMARY:Initiations! (1/6)
DESCRIPTION:taught by Sarah Claspell\nat Online
DTSTART;TZID=America/Los_Angeles:20210907T110000
DTEND;TZID=America/Los_Angeles:20210907T130000
LOCATION:Online
END:VEVENT
BEGIN:VEVENT
UID:3556be89e35c612e663ea712e2ec56af
DTSTAMP:20260423T160046Z
SUMMARY:Initiations! (2/6)
DESCRIPTION:taught by Sarah Claspell\nat Online
DTSTART;TZID=America/Los_Angeles:20210914T110000
DTEND;TZID=America/Los_Angeles:20210914T130000
LOCATION:Online
END:VEVENT
BEGIN:VEVENT
UID:43e13c424a3918b4524a9e57649e673b
DTSTAMP:20260423T160046Z
SUMMARY:Initiations! (3/6)
DESCRIPTION:taught by Sarah Claspell\nat Online
DTSTART;TZID=America/Los_Angeles:20210921T110000
DTEND;TZID=America/Los_Angeles:20210921T130000
LOCATION:Online
END:VEVENT
BEGIN:VEVENT
UID:bb8330073699bf7bcfee21d895f93441
DTSTAMP:20260423T160046Z
SUMMARY:Initiations! (4/6)
DESCRIPTION:taught by Sarah Claspell\nat Online
DTSTART;TZID=America/Los_Angeles:20210928T110000
DTEND;TZID=America/Los_Angeles:20210928T130000
LOCATION:Online
END:VEVENT
BEGIN:VEVENT
UID:c85566d1adc732723e3fe1bf4dcc9fc9
DTSTAMP:20260423T160046Z
SUMMARY:Initiations! (5/6)
DESCRIPTION:taught by Sarah Claspell\nat Online
DTSTART;TZID=America/Los_Angeles:20211005T110000
DTEND;TZID=America/Los_Angeles:20211005T130000
LOCATION:Online
END:VEVENT
BEGIN:VEVENT
UID:3ed4deb61a3e65d75244297553345e26
DTSTAMP:20260423T160046Z
SUMMARY:Initiations! (6/6)
DESCRIPTION:taught by Sarah Claspell\nat Online
DTSTART;TZID=America/Los_Angeles:20211012T110000
DTEND;TZID=America/Los_Angeles:20211012T120000
LOCATION:Online
END:VEVENT
BEGIN:VTIMEZONE
TZID:America/Los_Angeles
BEGIN:DAYLIGHT
DTSTART:20260401T000000
TZNAME:PDT
TZOFFSETTO:-0700
TZOFFSETFROM:-0700
END:DAYLIGHT
END:VTIMEZONE
END:VCALENDAR
