BEGIN:VCALENDAR
PRODID:-//eluceo/ical//2.0/EN
VERSION:2.0
CALSCALE:GREGORIAN
BEGIN:VEVENT
UID:60d815833cf9bc9e3b2f8192e9a5fba8
DTSTAMP:20260423T174329Z
SUMMARY:Six Degrees of Separation (1/2)
DESCRIPTION:taught by Brandon Gardner\nat Online
DTSTART;TZID=America/Los_Angeles:20210907T150000
DTEND;TZID=America/Los_Angeles:20210907T170000
LOCATION:Online
END:VEVENT
BEGIN:VEVENT
UID:57bc26d1688bd817883f3a33220267b9
DTSTAMP:20260423T174329Z
SUMMARY:Six Degrees of Separation (2/2)
DESCRIPTION:taught by Brandon Gardner\nat Online
DTSTART;TZID=America/Los_Angeles:20210914T150000
DTEND;TZID=America/Los_Angeles:20210914T170000
LOCATION:Online
END:VEVENT
BEGIN:VTIMEZONE
TZID:America/Los_Angeles
BEGIN:DAYLIGHT
DTSTART:20260401T000000
TZNAME:PDT
TZOFFSETTO:-0700
TZOFFSETFROM:-0700
END:DAYLIGHT
END:VTIMEZONE
END:VCALENDAR
