BEGIN:VCALENDAR
PRODID:-//eluceo/ical//2.0/EN
VERSION:2.0
CALSCALE:GREGORIAN
BEGIN:VEVENT
UID:c8eb0e8412f758263102e555e89fb9eb
DTSTAMP:20260423T155947Z
SUMMARY:Better Scenes (1/6)
DESCRIPTION:taught by Will Hines\nat Online
DTSTART;TZID=America/Los_Angeles:20210908T110000
DTEND;TZID=America/Los_Angeles:20210908T130000
LOCATION:Online
END:VEVENT
BEGIN:VEVENT
UID:12ed874297566d7abe8b7bae30cb198e
DTSTAMP:20260423T155947Z
SUMMARY:Better Scenes (2/6)
DESCRIPTION:taught by Will Hines\nat Online
DTSTART;TZID=America/Los_Angeles:20210915T110000
DTEND;TZID=America/Los_Angeles:20210915T130000
LOCATION:Online
END:VEVENT
BEGIN:VEVENT
UID:5ebd6b6dc15a0b73a54ce480897282cc
DTSTAMP:20260423T155947Z
SUMMARY:Better Scenes (3/6)
DESCRIPTION:taught by Will Hines\nat Online
DTSTART;TZID=America/Los_Angeles:20210922T110000
DTEND;TZID=America/Los_Angeles:20210922T130000
LOCATION:Online
END:VEVENT
BEGIN:VEVENT
UID:abe13c4223f0b28cc7e6019d0e4d2221
DTSTAMP:20260423T155947Z
SUMMARY:Better Scenes (4/6)
DESCRIPTION:taught by Will Hines\nat Online
DTSTART;TZID=America/Los_Angeles:20210929T110000
DTEND;TZID=America/Los_Angeles:20210929T130000
LOCATION:Online
END:VEVENT
BEGIN:VEVENT
UID:a8c0227a1f3304016cb686f095566d7a
DTSTAMP:20260423T155947Z
SUMMARY:Better Scenes (5/6)
DESCRIPTION:taught by Will Hines\nat Online
DTSTART;TZID=America/Los_Angeles:20211006T110000
DTEND;TZID=America/Los_Angeles:20211006T130000
LOCATION:Online
END:VEVENT
BEGIN:VEVENT
UID:e6d6399b12a6d2f89ef95ecc6a710cce
DTSTAMP:20260423T155947Z
SUMMARY:Better Scenes (6/6)
DESCRIPTION:taught by Will Hines\nat Online
DTSTART;TZID=America/Los_Angeles:20211013T110000
DTEND;TZID=America/Los_Angeles:20211013T120000
LOCATION:Online
END:VEVENT
BEGIN:VTIMEZONE
TZID:America/Los_Angeles
BEGIN:DAYLIGHT
DTSTART:20260401T000000
TZNAME:PDT
TZOFFSETTO:-0700
TZOFFSETFROM:-0700
END:DAYLIGHT
END:VTIMEZONE
END:VCALENDAR
