BEGIN:VCALENDAR
PRODID:-//eluceo/ical//2.0/EN
VERSION:2.0
CALSCALE:GREGORIAN
BEGIN:VEVENT
UID:e9e2b406918a8d2336db81341ff29896
DTSTAMP:20260423T160228Z
SUMMARY:Better Scenes (1/6)
DESCRIPTION:taught by Will Hines\nat Online
DTSTART;TZID=America/Los_Angeles:20210908T170000
DTEND;TZID=America/Los_Angeles:20210908T190000
LOCATION:Online
END:VEVENT
BEGIN:VEVENT
UID:dec9cbddd9bcf98133c8c471ad207e22
DTSTAMP:20260423T160228Z
SUMMARY:Better Scenes (2/6)
DESCRIPTION:taught by Will Hines\nat Online
DTSTART;TZID=America/Los_Angeles:20210915T170000
DTEND;TZID=America/Los_Angeles:20210915T190000
LOCATION:Online
END:VEVENT
BEGIN:VEVENT
UID:2008421f17a273e74986dd96f63bd811
DTSTAMP:20260423T160228Z
SUMMARY:Better Scenes (3/6)
DESCRIPTION:taught by Will Hines\nat Online
DTSTART;TZID=America/Los_Angeles:20210922T170000
DTEND;TZID=America/Los_Angeles:20210922T190000
LOCATION:Online
END:VEVENT
BEGIN:VEVENT
UID:8360bed09d28d4ca9da57ae6b56fcf57
DTSTAMP:20260423T160228Z
SUMMARY:Better Scenes (4/6)
DESCRIPTION:taught by Will Hines\nat Online
DTSTART;TZID=America/Los_Angeles:20210929T170000
DTEND;TZID=America/Los_Angeles:20210929T190000
LOCATION:Online
END:VEVENT
BEGIN:VEVENT
UID:6fba8c8bdc64e8ca55a6ac682732caff
DTSTAMP:20260423T160228Z
SUMMARY:Better Scenes (5/6)
DESCRIPTION:taught by Will Hines\nat Online
DTSTART;TZID=America/Los_Angeles:20211006T170000
DTEND;TZID=America/Los_Angeles:20211006T190000
LOCATION:Online
END:VEVENT
BEGIN:VEVENT
UID:b61ce27ce735854b27ae7c75ae124aa9
DTSTAMP:20260423T160228Z
SUMMARY:Better Scenes (6/6)
DESCRIPTION:taught by Will Hines\nat Online
DTSTART;TZID=America/Los_Angeles:20211013T170000
DTEND;TZID=America/Los_Angeles:20211013T180000
LOCATION:Online
END:VEVENT
BEGIN:VTIMEZONE
TZID:America/Los_Angeles
BEGIN:DAYLIGHT
DTSTART:20260401T000000
TZNAME:PDT
TZOFFSETTO:-0700
TZOFFSETFROM:-0700
END:DAYLIGHT
END:VTIMEZONE
END:VCALENDAR
