BEGIN:VCALENDAR
PRODID:-//eluceo/ical//2.0/EN
VERSION:2.0
CALSCALE:GREGORIAN
BEGIN:VEVENT
UID:8d689b1deb1e5c27681f323e31323e99
DTSTAMP:20260423T160419Z
SUMMARY:Simplifying Game (1/6)
DESCRIPTION:taught by Sarah Claspell\nat Online
DTSTART;TZID=America/Los_Angeles:20210910T170000
DTEND;TZID=America/Los_Angeles:20210910T190000
LOCATION:Online
END:VEVENT
BEGIN:VEVENT
UID:022e2d87815c62b4b2b71520bc8b5f57
DTSTAMP:20260423T160419Z
SUMMARY:Simplifying Game (2/6)
DESCRIPTION:taught by Sarah Claspell\nat Online
DTSTART;TZID=America/Los_Angeles:20210917T170000
DTEND;TZID=America/Los_Angeles:20210917T190000
LOCATION:Online
END:VEVENT
BEGIN:VEVENT
UID:19efa82aa560bfdc6bb663120ac5ccd1
DTSTAMP:20260423T160419Z
SUMMARY:Simplifying Game (3/6)
DESCRIPTION:taught by Sarah Claspell\nat Online
DTSTART;TZID=America/Los_Angeles:20210924T170000
DTEND;TZID=America/Los_Angeles:20210924T190000
LOCATION:Online
END:VEVENT
BEGIN:VEVENT
UID:29236439ac53e0bfdf2c0b03c7a36eb4
DTSTAMP:20260423T160419Z
SUMMARY:Simplifying Game (4/6)
DESCRIPTION:taught by Sarah Claspell\nat Online
DTSTART;TZID=America/Los_Angeles:20211001T170000
DTEND;TZID=America/Los_Angeles:20211001T190000
LOCATION:Online
END:VEVENT
BEGIN:VEVENT
UID:cbd762426b1a00d0315bb472363b01a4
DTSTAMP:20260423T160419Z
SUMMARY:Simplifying Game (5/6)
DESCRIPTION:taught by Sarah Claspell\nat Online
DTSTART;TZID=America/Los_Angeles:20211008T170000
DTEND;TZID=America/Los_Angeles:20211008T190000
LOCATION:Online
END:VEVENT
BEGIN:VEVENT
UID:6fc850dbec0a3ad32015431d1e841629
DTSTAMP:20260423T160419Z
SUMMARY:Simplifying Game (6/6)
DESCRIPTION:taught by Sarah Claspell\nat Online
DTSTART;TZID=America/Los_Angeles:20211015T170000
DTEND;TZID=America/Los_Angeles:20211015T180000
LOCATION:Online
END:VEVENT
BEGIN:VTIMEZONE
TZID:America/Los_Angeles
BEGIN:DAYLIGHT
DTSTART:20260401T000000
TZNAME:PDT
TZOFFSETTO:-0700
TZOFFSETFROM:-0700
END:DAYLIGHT
END:VTIMEZONE
END:VCALENDAR
