BEGIN:VCALENDAR
PRODID:-//eluceo/ical//2.0/EN
VERSION:2.0
CALSCALE:GREGORIAN
BEGIN:VEVENT
UID:c30b00a568fa42356f766c227c88bae5
DTSTAMP:20260423T160106Z
SUMMARY:Monoscene (1/6)
DESCRIPTION:taught by Michelle Gilliam\nat Online
DTSTART;TZID=America/Los_Angeles:20210912T170000
DTEND;TZID=America/Los_Angeles:20210912T190000
LOCATION:Online
END:VEVENT
BEGIN:VEVENT
UID:c9b94577227e4f9d88f7549325db7b37
DTSTAMP:20260423T160106Z
SUMMARY:Monoscene (2/6)
DESCRIPTION:taught by Michelle Gilliam\nat Online
DTSTART;TZID=America/Los_Angeles:20210919T170000
DTEND;TZID=America/Los_Angeles:20210919T190000
LOCATION:Online
END:VEVENT
BEGIN:VEVENT
UID:d16cf56345b32a1eaa2f001545f0b4d7
DTSTAMP:20260423T160106Z
SUMMARY:Monoscene (3/6)
DESCRIPTION:taught by Michelle Gilliam\nat Online
DTSTART;TZID=America/Los_Angeles:20210926T170000
DTEND;TZID=America/Los_Angeles:20210926T190000
LOCATION:Online
END:VEVENT
BEGIN:VEVENT
UID:815857bd72c445a05dfd36cbf10ce1f3
DTSTAMP:20260423T160106Z
SUMMARY:Monoscene (4/6)
DESCRIPTION:taught by Michelle Gilliam\nat Online
DTSTART;TZID=America/Los_Angeles:20211003T170000
DTEND;TZID=America/Los_Angeles:20211003T190000
LOCATION:Online
END:VEVENT
BEGIN:VEVENT
UID:a988a904def3a7840d5478db04ce04f8
DTSTAMP:20260423T160106Z
SUMMARY:Monoscene (5/6)
DESCRIPTION:taught by Michelle Gilliam\nat Online
DTSTART;TZID=America/Los_Angeles:20211010T170000
DTEND;TZID=America/Los_Angeles:20211010T190000
LOCATION:Online
END:VEVENT
BEGIN:VEVENT
UID:7b2a2a656e438950eae0cc8290350d84
DTSTAMP:20260423T160106Z
SUMMARY:Monoscene (6/6)
DESCRIPTION:taught by Michelle Gilliam\nat Online
DTSTART;TZID=America/Los_Angeles:20211017T170000
DTEND;TZID=America/Los_Angeles:20211017T180000
LOCATION:Online
END:VEVENT
BEGIN:VTIMEZONE
TZID:America/Los_Angeles
BEGIN:DAYLIGHT
DTSTART:20260401T000000
TZNAME:PDT
TZOFFSETTO:-0700
TZOFFSETFROM:-0700
END:DAYLIGHT
END:VTIMEZONE
END:VCALENDAR
