BEGIN:VCALENDAR
PRODID:-//eluceo/ical//2.0/EN
VERSION:2.0
CALSCALE:GREGORIAN
BEGIN:VEVENT
UID:4b11bf2bdbf9a586ff4ee8c641a7346c
DTSTAMP:20260423T160816Z
SUMMARY:Get Off The Fence (1/6)
DESCRIPTION:taught by Julie Brister\nat Online
DTSTART;TZID=America/Los_Angeles:20210913T110000
DTEND;TZID=America/Los_Angeles:20210913T130000
LOCATION:Online
END:VEVENT
BEGIN:VEVENT
UID:b92cd604eece173e5c15d002c31f3e56
DTSTAMP:20260423T160816Z
SUMMARY:Get Off The Fence (2/6)
DESCRIPTION:taught by Julie Brister\nat Online
DTSTART;TZID=America/Los_Angeles:20210920T110000
DTEND;TZID=America/Los_Angeles:20210920T130000
LOCATION:Online
END:VEVENT
BEGIN:VEVENT
UID:505216ac2fbcf785e56559a0369d221a
DTSTAMP:20260423T160816Z
SUMMARY:Get Off The Fence (3/6)
DESCRIPTION:taught by Julie Brister\nat Online
DTSTART;TZID=America/Los_Angeles:20210927T110000
DTEND;TZID=America/Los_Angeles:20210927T130000
LOCATION:Online
END:VEVENT
BEGIN:VEVENT
UID:76e01619e8bff255adf125b1ae368262
DTSTAMP:20260423T160816Z
SUMMARY:Get Off The Fence (4/6)
DESCRIPTION:taught by Julie Brister\nat Online
DTSTART;TZID=America/Los_Angeles:20211004T110000
DTEND;TZID=America/Los_Angeles:20211004T130000
LOCATION:Online
END:VEVENT
BEGIN:VEVENT
UID:91f0b12fb9d72f8ba1106e649d92c417
DTSTAMP:20260423T160816Z
SUMMARY:Get Off The Fence (5/6)
DESCRIPTION:taught by Julie Brister\nat Online
DTSTART;TZID=America/Los_Angeles:20211011T110000
DTEND;TZID=America/Los_Angeles:20211011T130000
LOCATION:Online
END:VEVENT
BEGIN:VEVENT
UID:58e0bec8c2f8286e980628215734d0df
DTSTAMP:20260423T160816Z
SUMMARY:Get Off The Fence (6/6)
DESCRIPTION:taught by Julie Brister\nat Online
DTSTART;TZID=America/Los_Angeles:20211018T110000
DTEND;TZID=America/Los_Angeles:20211018T130000
LOCATION:Online
END:VEVENT
BEGIN:VTIMEZONE
TZID:America/Los_Angeles
BEGIN:DAYLIGHT
DTSTART:20260401T000000
TZNAME:PDT
TZOFFSETTO:-0700
TZOFFSETFROM:-0700
END:DAYLIGHT
END:VTIMEZONE
END:VCALENDAR
