BEGIN:VCALENDAR
PRODID:-//eluceo/ical//2.0/EN
VERSION:2.0
CALSCALE:GREGORIAN
BEGIN:VEVENT
UID:9d0b892dd609365ef6770da581601b94
DTSTAMP:20260423T155739Z
SUMMARY:Better Scenes (1/6)
DESCRIPTION:taught by Will Hines\nat Online
DTSTART;TZID=America/Los_Angeles:20210907T110000
DTEND;TZID=America/Los_Angeles:20210907T130000
LOCATION:Online
END:VEVENT
BEGIN:VEVENT
UID:9e404e5fc14f4965d7521fd1cad141b8
DTSTAMP:20260423T155739Z
SUMMARY:Better Scenes (2/6)
DESCRIPTION:taught by Will Hines\nat Online
DTSTART;TZID=America/Los_Angeles:20210914T110000
DTEND;TZID=America/Los_Angeles:20210914T130000
LOCATION:Online
END:VEVENT
BEGIN:VEVENT
UID:d3ee5175d3b49828b951d97859506ccb
DTSTAMP:20260423T155739Z
SUMMARY:Better Scenes (3/6)
DESCRIPTION:taught by Will Hines\nat Online
DTSTART;TZID=America/Los_Angeles:20210921T110000
DTEND;TZID=America/Los_Angeles:20210921T130000
LOCATION:Online
END:VEVENT
BEGIN:VEVENT
UID:c0a0f0c4e4ce8a29033eba4d375cd699
DTSTAMP:20260423T155739Z
SUMMARY:Better Scenes (4/6)
DESCRIPTION:taught by Will Hines\nat Online
DTSTART;TZID=America/Los_Angeles:20210928T110000
DTEND;TZID=America/Los_Angeles:20210928T130000
LOCATION:Online
END:VEVENT
BEGIN:VEVENT
UID:3f2f96560ab17f3719a5c3f6602a25ea
DTSTAMP:20260423T155739Z
SUMMARY:Better Scenes (5/6)
DESCRIPTION:taught by Will Hines\nat Online
DTSTART;TZID=America/Los_Angeles:20211005T110000
DTEND;TZID=America/Los_Angeles:20211005T130000
LOCATION:Online
END:VEVENT
BEGIN:VEVENT
UID:c36cb40db21c5b2e18119c36c026a58c
DTSTAMP:20260423T155739Z
SUMMARY:Better Scenes (6/6)
DESCRIPTION:taught by Will Hines\nat Online
DTSTART;TZID=America/Los_Angeles:20211012T110000
DTEND;TZID=America/Los_Angeles:20211012T120000
LOCATION:Online
END:VEVENT
BEGIN:VTIMEZONE
TZID:America/Los_Angeles
BEGIN:DAYLIGHT
DTSTART:20260401T000000
TZNAME:PDT
TZOFFSETTO:-0700
TZOFFSETFROM:-0700
END:DAYLIGHT
END:VTIMEZONE
END:VCALENDAR
