BEGIN:VCALENDAR
PRODID:-//eluceo/ical//2.0/EN
VERSION:2.0
CALSCALE:GREGORIAN
BEGIN:VEVENT
UID:bec7546ce73553e0914934ff3fc1397f
DTSTAMP:20260423T160440Z
SUMMARY:Better Scenes (1/6)
DESCRIPTION:taught by Will Hines\nat Online
DTSTART;TZID=America/Los_Angeles:20210907T170000
DTEND;TZID=America/Los_Angeles:20210907T190000
LOCATION:Online
END:VEVENT
BEGIN:VEVENT
UID:82ec760e80bdba94eac37d2ade1536cc
DTSTAMP:20260423T160440Z
SUMMARY:Better Scenes (2/6)
DESCRIPTION:taught by Will Hines\nat Online
DTSTART;TZID=America/Los_Angeles:20210914T170000
DTEND;TZID=America/Los_Angeles:20210914T190000
LOCATION:Online
END:VEVENT
BEGIN:VEVENT
UID:a357802aa2e6b1c3ea92fffa8f8cd785
DTSTAMP:20260423T160440Z
SUMMARY:Better Scenes (3/6)
DESCRIPTION:taught by Will Hines\nat Online
DTSTART;TZID=America/Los_Angeles:20210921T170000
DTEND;TZID=America/Los_Angeles:20210921T190000
LOCATION:Online
END:VEVENT
BEGIN:VEVENT
UID:37d2ebd43352d83bc8ddfdaa481de07f
DTSTAMP:20260423T160440Z
SUMMARY:Better Scenes (4/6)
DESCRIPTION:taught by Will Hines\nat Online
DTSTART;TZID=America/Los_Angeles:20210928T170000
DTEND;TZID=America/Los_Angeles:20210928T190000
LOCATION:Online
END:VEVENT
BEGIN:VEVENT
UID:ff5ecb8a2991a12193badeaeb121da30
DTSTAMP:20260423T160440Z
SUMMARY:Better Scenes (5/6)
DESCRIPTION:taught by Will Hines\nat Online
DTSTART;TZID=America/Los_Angeles:20211005T170000
DTEND;TZID=America/Los_Angeles:20211005T190000
LOCATION:Online
END:VEVENT
BEGIN:VEVENT
UID:574d30985257abfab47b6013d1558d28
DTSTAMP:20260423T160440Z
SUMMARY:Better Scenes (6/6)
DESCRIPTION:taught by Will Hines\nat Online
DTSTART;TZID=America/Los_Angeles:20211012T170000
DTEND;TZID=America/Los_Angeles:20211012T180000
LOCATION:Online
END:VEVENT
BEGIN:VTIMEZONE
TZID:America/Los_Angeles
BEGIN:DAYLIGHT
DTSTART:20260401T000000
TZNAME:PDT
TZOFFSETTO:-0700
TZOFFSETFROM:-0700
END:DAYLIGHT
END:VTIMEZONE
END:VCALENDAR
