BEGIN:VCALENDAR
PRODID:-//eluceo/ical//2.0/EN
VERSION:2.0
CALSCALE:GREGORIAN
BEGIN:VEVENT
UID:b49f1004b18448cc461c581516ad239e
DTSTAMP:20260423T160046Z
SUMMARY:Emotional Heightening (Game) (1/6)
DESCRIPTION:taught by Alex Berg\nat Online
DTSTART;TZID=America/Los_Angeles:20210907T110000
DTEND;TZID=America/Los_Angeles:20210907T130000
LOCATION:Online
END:VEVENT
BEGIN:VEVENT
UID:fd20847eb5411a77b5f93a23c383f4a8
DTSTAMP:20260423T160046Z
SUMMARY:Emotional Heightening (Game) (2/6)
DESCRIPTION:taught by Alex Berg\nat Online
DTSTART;TZID=America/Los_Angeles:20210914T110000
DTEND;TZID=America/Los_Angeles:20210914T130000
LOCATION:Online
END:VEVENT
BEGIN:VEVENT
UID:1c463164ac2e6ce794aec4eb76a6c4ea
DTSTAMP:20260423T160046Z
SUMMARY:Emotional Heightening (Game) (3/6)
DESCRIPTION:taught by Alex Berg\nat Online
DTSTART;TZID=America/Los_Angeles:20210921T110000
DTEND;TZID=America/Los_Angeles:20210921T130000
LOCATION:Online
END:VEVENT
BEGIN:VEVENT
UID:e48615b95150206101a85f0e62e9878e
DTSTAMP:20260423T160046Z
SUMMARY:Emotional Heightening (Game) (4/6)
DESCRIPTION:taught by Alex Berg\nat Online
DTSTART;TZID=America/Los_Angeles:20210928T110000
DTEND;TZID=America/Los_Angeles:20210928T130000
LOCATION:Online
END:VEVENT
BEGIN:VEVENT
UID:3cc5d70108be2647218e852d4f064764
DTSTAMP:20260423T160046Z
SUMMARY:Emotional Heightening (Game) (5/6)
DESCRIPTION:taught by Alex Berg\nat Online
DTSTART;TZID=America/Los_Angeles:20211005T110000
DTEND;TZID=America/Los_Angeles:20211005T130000
LOCATION:Online
END:VEVENT
BEGIN:VEVENT
UID:fd514aadeb92810814273a29b25015fc
DTSTAMP:20260423T160046Z
SUMMARY:Emotional Heightening (Game) (6/6)
DESCRIPTION:taught by Alex Berg\nat Online
DTSTART;TZID=America/Los_Angeles:20211012T110000
DTEND;TZID=America/Los_Angeles:20211012T130000
LOCATION:Online
END:VEVENT
BEGIN:VTIMEZONE
TZID:America/Los_Angeles
BEGIN:DAYLIGHT
DTSTART:20260401T000000
TZNAME:PDT
TZOFFSETTO:-0700
TZOFFSETFROM:-0700
END:DAYLIGHT
END:VTIMEZONE
END:VCALENDAR
