BEGIN:VCALENDAR
PRODID:-//eluceo/ical//2.0/EN
VERSION:2.0
CALSCALE:GREGORIAN
BEGIN:VEVENT
UID:3ad1d4ba33a03fc35386dd9b4bccf8da
DTSTAMP:20260423T160359Z
SUMMARY:Openings (1/4)
DESCRIPTION:taught by Alex Berg\nat Online
DTSTART;TZID=America/Los_Angeles:20210915T170000
DTEND;TZID=America/Los_Angeles:20210915T190000
LOCATION:Online
END:VEVENT
BEGIN:VEVENT
UID:3fe0b4a6889e0103bd734c10bcd3a960
DTSTAMP:20260423T160359Z
SUMMARY:Openings (2/4)
DESCRIPTION:taught by Alex Berg\nat Online
DTSTART;TZID=America/Los_Angeles:20210922T170000
DTEND;TZID=America/Los_Angeles:20210922T190000
LOCATION:Online
END:VEVENT
BEGIN:VEVENT
UID:f33c4c51ff86f01025b53ae12a8a7964
DTSTAMP:20260423T160359Z
SUMMARY:Openings (3/4)
DESCRIPTION:taught by Alex Berg\nat Online
DTSTART;TZID=America/Los_Angeles:20210929T170000
DTEND;TZID=America/Los_Angeles:20210929T190000
LOCATION:Online
END:VEVENT
BEGIN:VEVENT
UID:912fb78e1a9204411acec41569f1d63d
DTSTAMP:20260423T160359Z
SUMMARY:Openings (4/4)
DESCRIPTION:taught by Alex Berg\nat Online
DTSTART;TZID=America/Los_Angeles:20211006T170000
DTEND;TZID=America/Los_Angeles:20211006T190000
LOCATION:Online
END:VEVENT
BEGIN:VTIMEZONE
TZID:America/Los_Angeles
BEGIN:DAYLIGHT
DTSTART:20260401T000000
TZNAME:PDT
TZOFFSETTO:-0700
TZOFFSETFROM:-0700
END:DAYLIGHT
END:VTIMEZONE
END:VCALENDAR
