BEGIN:VCALENDAR
PRODID:-//eluceo/ical//2.0/EN
VERSION:2.0
CALSCALE:GREGORIAN
BEGIN:VEVENT
UID:bb7bd80967c7229dd9c64b02557932f2
DTSTAMP:20260423T144900Z
SUMMARY:No Jerks Allowed (1/6)
DESCRIPTION:taught by Shannon O'Neill\nat Online
DTSTART;TZID=America/Los_Angeles:20211007T170000
DTEND;TZID=America/Los_Angeles:20211007T190000
LOCATION:Online
END:VEVENT
BEGIN:VEVENT
UID:39f4b835309f37a3662b184b2bf4d354
DTSTAMP:20260423T144900Z
SUMMARY:No Jerks Allowed (2/6)
DESCRIPTION:taught by Shannon O'Neill\nat Online
DTSTART;TZID=America/Los_Angeles:20211014T170000
DTEND;TZID=America/Los_Angeles:20211014T190000
LOCATION:Online
END:VEVENT
BEGIN:VEVENT
UID:ee45ad2f6c4cfc1babe1d6702f8fdde7
DTSTAMP:20260423T144900Z
SUMMARY:No Jerks Allowed (3/6)
DESCRIPTION:taught by Shannon O'Neill\nat Online
DTSTART;TZID=America/Los_Angeles:20211021T170000
DTEND;TZID=America/Los_Angeles:20211021T190000
LOCATION:Online
END:VEVENT
BEGIN:VEVENT
UID:27802bbb2ac196cec0f87267c114c9f5
DTSTAMP:20260423T144900Z
SUMMARY:No Jerks Allowed (4/6)
DESCRIPTION:taught by Shannon O'Neill\nat Online
DTSTART;TZID=America/Los_Angeles:20211028T170000
DTEND;TZID=America/Los_Angeles:20211028T190000
LOCATION:Online
END:VEVENT
BEGIN:VEVENT
UID:e17c154b9c4eafc01b4bfff07e462256
DTSTAMP:20260423T144900Z
SUMMARY:No Jerks Allowed (5/6)
DESCRIPTION:taught by Shannon O'Neill\nat Online
DTSTART;TZID=America/Los_Angeles:20211104T170000
DTEND;TZID=America/Los_Angeles:20211104T190000
LOCATION:Online
END:VEVENT
BEGIN:VEVENT
UID:2d66a3ac495dfabb7d76acda2bc1b36d
DTSTAMP:20260423T144900Z
SUMMARY:No Jerks Allowed (6/6)
DESCRIPTION:taught by Shannon O'Neill\nat Online
DTSTART;TZID=America/Los_Angeles:20211111T170000
DTEND;TZID=America/Los_Angeles:20211111T170000
LOCATION:Online
END:VEVENT
BEGIN:VTIMEZONE
TZID:America/Los_Angeles
BEGIN:DAYLIGHT
DTSTART:20260401T000000
TZNAME:PDT
TZOFFSETTO:-0700
TZOFFSETFROM:-0700
END:DAYLIGHT
END:VTIMEZONE
END:VCALENDAR
