BEGIN:VCALENDAR
PRODID:-//eluceo/ical//2.0/EN
VERSION:2.0
CALSCALE:GREGORIAN
BEGIN:VEVENT
UID:b62fc0951c98a5a8f20f744e207b6248
DTSTAMP:20260425T105957Z
SUMMARY:2 Person Scenes With Notes (RED) (1/1)
DESCRIPTION:taught by Michelle Gilliam\nat Online
DTSTART;TZID=America/Los_Angeles:20211016T103000
DTEND;TZID=America/Los_Angeles:20211016T123000
LOCATION:Online
END:VEVENT
BEGIN:VTIMEZONE
TZID:America/Los_Angeles
BEGIN:DAYLIGHT
DTSTART:20260401T000000
TZNAME:PDT
TZOFFSETTO:-0700
TZOFFSETFROM:-0700
END:DAYLIGHT
END:VTIMEZONE
END:VCALENDAR
