BEGIN:VCALENDAR
PRODID:-//eluceo/ical//2.0/EN
VERSION:2.0
CALSCALE:GREGORIAN
BEGIN:VEVENT
UID:97eac44825ed93ae2a2945f3e8714e45
DTSTAMP:20260425T110109Z
SUMMARY:2 Person Scenes With Notes (BLUE) (1/1)
DESCRIPTION:taught by Michelle Gilliam\nat Online
DTSTART;TZID=America/Los_Angeles:20211016T130000
DTEND;TZID=America/Los_Angeles:20211016T150000
LOCATION:Online
END:VEVENT
BEGIN:VTIMEZONE
TZID:America/Los_Angeles
BEGIN:DAYLIGHT
DTSTART:20260401T000000
TZNAME:PDT
TZOFFSETTO:-0700
TZOFFSETFROM:-0700
END:DAYLIGHT
END:VTIMEZONE
END:VCALENDAR
