BEGIN:VCALENDAR
PRODID:-//eluceo/ical//2.0/EN
VERSION:2.0
CALSCALE:GREGORIAN
BEGIN:VEVENT
UID:18a39747058f15e483f5f0caee4eff2a
DTSTAMP:20260425T194308Z
SUMMARY:Sketch Writing (1/5)
DESCRIPTION:taught by Nate Smith\nat Online
DTSTART;TZID=America/Los_Angeles:20211107T170000
DTEND;TZID=America/Los_Angeles:20211107T193000
LOCATION:Online
END:VEVENT
BEGIN:VEVENT
UID:36fab8b7dc30869d7df46ac8ca95cd19
DTSTAMP:20260425T194308Z
SUMMARY:Sketch Writing (2/5)
DESCRIPTION:taught by Nate Smith\nat Online
DTSTART;TZID=America/Los_Angeles:20211114T170000
DTEND;TZID=America/Los_Angeles:20211114T193000
LOCATION:Online
END:VEVENT
BEGIN:VEVENT
UID:8b31171226b8e4f4260e9380f0a618fa
DTSTAMP:20260425T194308Z
SUMMARY:Sketch Writing (3/5)
DESCRIPTION:taught by Nate Smith\nat Online
DTSTART;TZID=America/Los_Angeles:20211121T170000
DTEND;TZID=America/Los_Angeles:20211121T193000
LOCATION:Online
END:VEVENT
BEGIN:VEVENT
UID:83dbca41bbf5b27b907dc9a75da39fb4
DTSTAMP:20260425T194308Z
SUMMARY:Sketch Writing (4/5)
DESCRIPTION:taught by Nate Smith\nat Online
DTSTART;TZID=America/Los_Angeles:20211128T170000
DTEND;TZID=America/Los_Angeles:20211128T193000
LOCATION:Online
END:VEVENT
BEGIN:VEVENT
UID:49d46392b3b098b68f0bfdbffa5c7378
DTSTAMP:20260425T194308Z
SUMMARY:Sketch Writing (5/5)
DESCRIPTION:taught by Nate Smith\nat Online
DTSTART;TZID=America/Los_Angeles:20211205T170000
DTEND;TZID=America/Los_Angeles:20211205T193000
LOCATION:Online
END:VEVENT
BEGIN:VTIMEZONE
TZID:America/Los_Angeles
BEGIN:DAYLIGHT
DTSTART:20260401T000000
TZNAME:PDT
TZOFFSETTO:-0700
TZOFFSETFROM:-0700
END:DAYLIGHT
END:VTIMEZONE
END:VCALENDAR
