BEGIN:VCALENDAR
PRODID:-//eluceo/ical//2.0/EN
VERSION:2.0
CALSCALE:GREGORIAN
BEGIN:VEVENT
UID:27c1b1d1131da064a31aaff247bf23c5
DTSTAMP:20260423T114719Z
SUMMARY:The Glen (1/6)
DESCRIPTION:taught by Jason Perez\nat Online
DTSTART;TZID=America/Los_Angeles:20211107T110000
DTEND;TZID=America/Los_Angeles:20211107T130000
LOCATION:Online
END:VEVENT
BEGIN:VEVENT
UID:9d92ccd6de7af92e7e33806ba925f9f7
DTSTAMP:20260423T114719Z
SUMMARY:The Glen (2/6)
DESCRIPTION:taught by Jason Perez\nat Online
DTSTART;TZID=America/Los_Angeles:20211114T110000
DTEND;TZID=America/Los_Angeles:20211114T130000
LOCATION:Online
END:VEVENT
BEGIN:VEVENT
UID:7fe137a6aade7fa468f3f33a997b28a5
DTSTAMP:20260423T114719Z
SUMMARY:The Glen (3/6)
DESCRIPTION:taught by Jason Perez\nat Online
DTSTART;TZID=America/Los_Angeles:20211121T110000
DTEND;TZID=America/Los_Angeles:20211121T130000
LOCATION:Online
END:VEVENT
BEGIN:VEVENT
UID:3869b2f087e8cd3654740e490bbb4ad7
DTSTAMP:20260423T114719Z
SUMMARY:The Glen (4/6)
DESCRIPTION:taught by Jason Perez\nat Online
DTSTART;TZID=America/Los_Angeles:20211128T110000
DTEND;TZID=America/Los_Angeles:20211128T130000
LOCATION:Online
END:VEVENT
BEGIN:VEVENT
UID:867a6ad6dc41f23968a407e83b2193f9
DTSTAMP:20260423T114719Z
SUMMARY:The Glen (5/6)
DESCRIPTION:taught by Jason Perez\nat Online
DTSTART;TZID=America/Los_Angeles:20211205T110000
DTEND;TZID=America/Los_Angeles:20211205T130000
LOCATION:Online
END:VEVENT
BEGIN:VEVENT
UID:c3ffdee798e3509458bd92168cf643f9
DTSTAMP:20260423T114719Z
SUMMARY:The Glen (6/6)
DESCRIPTION:taught by Jason Perez\nat Online
DTSTART;TZID=America/Los_Angeles:20211212T110000
DTEND;TZID=America/Los_Angeles:20211212T120000
LOCATION:Online
END:VEVENT
BEGIN:VTIMEZONE
TZID:America/Los_Angeles
BEGIN:DAYLIGHT
DTSTART:20260401T000000
TZNAME:PDT
TZOFFSETTO:-0700
TZOFFSETFROM:-0700
END:DAYLIGHT
END:VTIMEZONE
END:VCALENDAR
