BEGIN:VCALENDAR
PRODID:-//eluceo/ical//2.0/EN
VERSION:2.0
CALSCALE:GREGORIAN
BEGIN:VEVENT
UID:00b5e9c678182d90d65e10933166e758
DTSTAMP:20260423T114700Z
SUMMARY:Monoscene (1/6)
DESCRIPTION:taught by Julie Brister\nat Online
DTSTART;TZID=America/Los_Angeles:20211110T110000
DTEND;TZID=America/Los_Angeles:20211110T130000
LOCATION:Online
END:VEVENT
BEGIN:VEVENT
UID:5311127e0953bc47124c9e569632abc8
DTSTAMP:20260423T114700Z
SUMMARY:Monoscene (2/6)
DESCRIPTION:taught by Julie Brister\nat Online
DTSTART;TZID=America/Los_Angeles:20211117T110000
DTEND;TZID=America/Los_Angeles:20211117T130000
LOCATION:Online
END:VEVENT
BEGIN:VEVENT
UID:367056c88fcf30614d44eba1b998d088
DTSTAMP:20260423T114700Z
SUMMARY:Monoscene (3/6)
DESCRIPTION:taught by Julie Brister\nat Online
DTSTART;TZID=America/Los_Angeles:20211124T110000
DTEND;TZID=America/Los_Angeles:20211124T130000
LOCATION:Online
END:VEVENT
BEGIN:VEVENT
UID:db6d5f8f324bb25dc8615c97411de4ca
DTSTAMP:20260423T114700Z
SUMMARY:Monoscene (4/6)
DESCRIPTION:taught by Julie Brister\nat Online
DTSTART;TZID=America/Los_Angeles:20211201T110000
DTEND;TZID=America/Los_Angeles:20211201T130000
LOCATION:Online
END:VEVENT
BEGIN:VEVENT
UID:22503409c5c996b18f01cd4c21d6e84a
DTSTAMP:20260423T114700Z
SUMMARY:Monoscene (5/6)
DESCRIPTION:taught by Julie Brister\nat Online
DTSTART;TZID=America/Los_Angeles:20211208T110000
DTEND;TZID=America/Los_Angeles:20211208T130000
LOCATION:Online
END:VEVENT
BEGIN:VEVENT
UID:e50926ba4ace9c2d49f364413670c584
DTSTAMP:20260423T114700Z
SUMMARY:Monoscene (6/6)
DESCRIPTION:taught by Julie Brister\nat Online
DTSTART;TZID=America/Los_Angeles:20211215T103000
DTEND;TZID=America/Los_Angeles:20211215T113000
LOCATION:Online
END:VEVENT
BEGIN:VTIMEZONE
TZID:America/Los_Angeles
BEGIN:DAYLIGHT
DTSTART:20260401T000000
TZNAME:PDT
TZOFFSETTO:-0700
TZOFFSETFROM:-0700
END:DAYLIGHT
END:VTIMEZONE
END:VCALENDAR
