BEGIN:VCALENDAR
PRODID:-//eluceo/ical//2.0/EN
VERSION:2.0
CALSCALE:GREGORIAN
BEGIN:VEVENT
UID:f7312f263eb198fd9bbbd10b984f8a1c
DTSTAMP:20260423T114719Z
SUMMARY:Improvised Sci-Fi (Advanced) (1/6)
DESCRIPTION:taught by Will Hines\nat Online
DTSTART;TZID=America/Los_Angeles:20211110T110000
DTEND;TZID=America/Los_Angeles:20211110T130000
LOCATION:Online
END:VEVENT
BEGIN:VEVENT
UID:2b6cf68cc3ef92883e77411438103d41
DTSTAMP:20260423T114719Z
SUMMARY:Improvised Sci-Fi (Advanced) (2/6)
DESCRIPTION:taught by Will Hines\nat Online
DTSTART;TZID=America/Los_Angeles:20211117T110000
DTEND;TZID=America/Los_Angeles:20211117T130000
LOCATION:Online
END:VEVENT
BEGIN:VEVENT
UID:841b97a5a89a88b91ffc0eb339c93077
DTSTAMP:20260423T114719Z
SUMMARY:Improvised Sci-Fi (Advanced) (3/6)
DESCRIPTION:taught by Will Hines\nat Online
DTSTART;TZID=America/Los_Angeles:20211124T110000
DTEND;TZID=America/Los_Angeles:20211124T130000
LOCATION:Online
END:VEVENT
BEGIN:VEVENT
UID:3904599927e48cd567a94a1174263f8d
DTSTAMP:20260423T114719Z
SUMMARY:Improvised Sci-Fi (Advanced) (4/6)
DESCRIPTION:taught by Will Hines\nat Online
DTSTART;TZID=America/Los_Angeles:20211201T110000
DTEND;TZID=America/Los_Angeles:20211201T130000
LOCATION:Online
END:VEVENT
BEGIN:VEVENT
UID:c85cac07bb33fc74f0822e47af7e0ef3
DTSTAMP:20260423T114719Z
SUMMARY:Improvised Sci-Fi (Advanced) (5/6)
DESCRIPTION:taught by Will Hines\nat Online
DTSTART;TZID=America/Los_Angeles:20211208T110000
DTEND;TZID=America/Los_Angeles:20211208T130000
LOCATION:Online
END:VEVENT
BEGIN:VEVENT
UID:9e635c7d4198cc21699f486b364ee734
DTSTAMP:20260423T114719Z
SUMMARY:Improvised Sci-Fi (Advanced) (6/6)
DESCRIPTION:taught by Will Hines\nat Online
DTSTART;TZID=America/Los_Angeles:20211215T120000
DTEND;TZID=America/Los_Angeles:20211215T130000
LOCATION:Online
END:VEVENT
BEGIN:VTIMEZONE
TZID:America/Los_Angeles
BEGIN:DAYLIGHT
DTSTART:20260401T000000
TZNAME:PDT
TZOFFSETTO:-0700
TZOFFSETFROM:-0700
END:DAYLIGHT
END:VTIMEZONE
END:VCALENDAR
