BEGIN:VCALENDAR
PRODID:-//eluceo/ical//2.0/EN
VERSION:2.0
CALSCALE:GREGORIAN
BEGIN:VEVENT
UID:2eda2d91fa740aea5b9c52936aa15e3a
DTSTAMP:20260425T193304Z
SUMMARY:Improvised Sci-Fi (Advanced) (1/6)
DESCRIPTION:taught by Will Hines\nat Online
DTSTART;TZID=America/Los_Angeles:20211110T170000
DTEND;TZID=America/Los_Angeles:20211110T190000
LOCATION:Online
END:VEVENT
BEGIN:VEVENT
UID:116cfd842f257e68472b900ebc6a3eec
DTSTAMP:20260425T193304Z
SUMMARY:Improvised Sci-Fi (Advanced) (2/6)
DESCRIPTION:taught by Will Hines\nat Online
DTSTART;TZID=America/Los_Angeles:20211117T170000
DTEND;TZID=America/Los_Angeles:20211117T190000
LOCATION:Online
END:VEVENT
BEGIN:VEVENT
UID:cebc60a0e20037756317f10b92086756
DTSTAMP:20260425T193304Z
SUMMARY:Improvised Sci-Fi (Advanced) (3/6)
DESCRIPTION:taught by Will Hines\nat Online
DTSTART;TZID=America/Los_Angeles:20211124T170000
DTEND;TZID=America/Los_Angeles:20211124T190000
LOCATION:Online
END:VEVENT
BEGIN:VEVENT
UID:d8a43879c89a8e444f37ac7742d36f96
DTSTAMP:20260425T193304Z
SUMMARY:Improvised Sci-Fi (Advanced) (4/6)
DESCRIPTION:taught by Will Hines\nat Online
DTSTART;TZID=America/Los_Angeles:20211201T170000
DTEND;TZID=America/Los_Angeles:20211201T190000
LOCATION:Online
END:VEVENT
BEGIN:VEVENT
UID:411bd11c87b7d1a71f506d4de5e6cbb3
DTSTAMP:20260425T193304Z
SUMMARY:Improvised Sci-Fi (Advanced) (5/6)
DESCRIPTION:taught by Will Hines\nat Online
DTSTART;TZID=America/Los_Angeles:20211208T170000
DTEND;TZID=America/Los_Angeles:20211208T190000
LOCATION:Online
END:VEVENT
BEGIN:VEVENT
UID:5968e7f83c04ef24ed82381c2e1366a4
DTSTAMP:20260425T193304Z
SUMMARY:Improvised Sci-Fi (Advanced) (6/6)
DESCRIPTION:taught by Will Hines\nat Online
DTSTART;TZID=America/Los_Angeles:20211215T180000
DTEND;TZID=America/Los_Angeles:20211215T190000
LOCATION:Online
END:VEVENT
BEGIN:VTIMEZONE
TZID:America/Los_Angeles
BEGIN:DAYLIGHT
DTSTART:20260401T000000
TZNAME:PDT
TZOFFSETTO:-0700
TZOFFSETFROM:-0700
END:DAYLIGHT
END:VTIMEZONE
END:VCALENDAR
