BEGIN:VCALENDAR
PRODID:-//eluceo/ical//2.0/EN
VERSION:2.0
CALSCALE:GREGORIAN
BEGIN:VEVENT
UID:0386bb375049e17b96094a9551885444
DTSTAMP:20260425T193450Z
SUMMARY:Simplifying Game (1/5)
DESCRIPTION:taught by Sarah Claspell\nat Online
DTSTART;TZID=America/Los_Angeles:20211110T170000
DTEND;TZID=America/Los_Angeles:20211110T190000
LOCATION:Online
END:VEVENT
BEGIN:VEVENT
UID:35287675320c08a3f81962d1214a3284
DTSTAMP:20260425T193450Z
SUMMARY:Simplifying Game (2/5)
DESCRIPTION:taught by Sarah Claspell\nat Online
DTSTART;TZID=America/Los_Angeles:20211117T170000
DTEND;TZID=America/Los_Angeles:20211117T190000
LOCATION:Online
END:VEVENT
BEGIN:VEVENT
UID:2638474db8e50da0694291144e08e3c9
DTSTAMP:20260425T193450Z
SUMMARY:Simplifying Game (3/5)
DESCRIPTION:taught by Sarah Claspell\nat Online
DTSTART;TZID=America/Los_Angeles:20211201T170000
DTEND;TZID=America/Los_Angeles:20211201T190000
LOCATION:Online
END:VEVENT
BEGIN:VEVENT
UID:aa5918d351b5413aa3aec43357d57bdd
DTSTAMP:20260425T193450Z
SUMMARY:Simplifying Game (4/5)
DESCRIPTION:taught by Sarah Claspell\nat Online
DTSTART;TZID=America/Los_Angeles:20211208T170000
DTEND;TZID=America/Los_Angeles:20211208T190000
LOCATION:Online
END:VEVENT
BEGIN:VEVENT
UID:ea5691f7381e6dbce3cab63a2e16bc99
DTSTAMP:20260425T193450Z
SUMMARY:Simplifying Game (5/5)
DESCRIPTION:taught by Sarah Claspell\nat Online
DTSTART;TZID=America/Los_Angeles:20211215T170000
DTEND;TZID=America/Los_Angeles:20211215T190000
LOCATION:Online
END:VEVENT
BEGIN:VTIMEZONE
TZID:America/Los_Angeles
BEGIN:DAYLIGHT
DTSTART:20260401T000000
TZNAME:PDT
TZOFFSETTO:-0700
TZOFFSETFROM:-0700
END:DAYLIGHT
END:VTIMEZONE
END:VCALENDAR
