BEGIN:VCALENDAR
PRODID:-//eluceo/ical//2.0/EN
VERSION:2.0
CALSCALE:GREGORIAN
BEGIN:VEVENT
UID:43a9af78d854450d0f886db116439cd7
DTSTAMP:20260423T114658Z
SUMMARY:Better Scenes (1/5)
DESCRIPTION:taught by Will Hines\nat Online
DTSTART;TZID=America/Los_Angeles:20211111T110000
DTEND;TZID=America/Los_Angeles:20211111T130000
LOCATION:Online
END:VEVENT
BEGIN:VEVENT
UID:1f58a0c7c957cc3800f9daf7b12cd643
DTSTAMP:20260423T114658Z
SUMMARY:Better Scenes (2/5)
DESCRIPTION:taught by Will Hines\nat Online
DTSTART;TZID=America/Los_Angeles:20211118T110000
DTEND;TZID=America/Los_Angeles:20211118T130000
LOCATION:Online
END:VEVENT
BEGIN:VEVENT
UID:8489b36f55708c88234952161051de4c
DTSTAMP:20260423T114658Z
SUMMARY:Better Scenes (3/5)
DESCRIPTION:taught by Will Hines\nat Online
DTSTART;TZID=America/Los_Angeles:20211202T110000
DTEND;TZID=America/Los_Angeles:20211202T130000
LOCATION:Online
END:VEVENT
BEGIN:VEVENT
UID:7f7f34f0f991d0d685068f99e8e70830
DTSTAMP:20260423T114658Z
SUMMARY:Better Scenes (4/5)
DESCRIPTION:taught by Will Hines\nat Online
DTSTART;TZID=America/Los_Angeles:20211209T110000
DTEND;TZID=America/Los_Angeles:20211209T130000
LOCATION:Online
END:VEVENT
BEGIN:VEVENT
UID:ee2483131154d41dd7b77f69b761391f
DTSTAMP:20260423T114658Z
SUMMARY:Better Scenes (5/5)
DESCRIPTION:taught by Will Hines\nat Online
DTSTART;TZID=America/Los_Angeles:20211216T110000
DTEND;TZID=America/Los_Angeles:20211216T130000
LOCATION:Online
END:VEVENT
BEGIN:VTIMEZONE
TZID:America/Los_Angeles
BEGIN:DAYLIGHT
DTSTART:20260401T000000
TZNAME:PDT
TZOFFSETTO:-0700
TZOFFSETFROM:-0700
END:DAYLIGHT
END:VTIMEZONE
END:VCALENDAR
