BEGIN:VCALENDAR
PRODID:-//eluceo/ical//2.0/EN
VERSION:2.0
CALSCALE:GREGORIAN
BEGIN:VEVENT
UID:63beb9caabc7ff6fbebc456a209aa95e
DTSTAMP:20260425T193304Z
SUMMARY:Better Scenes (1/5)
DESCRIPTION:taught by Will Hines\nat Online
DTSTART;TZID=America/Los_Angeles:20211111T170000
DTEND;TZID=America/Los_Angeles:20211111T190000
LOCATION:Online
END:VEVENT
BEGIN:VEVENT
UID:1be7ab1077635ebff67a2e03b40db1e6
DTSTAMP:20260425T193304Z
SUMMARY:Better Scenes (2/5)
DESCRIPTION:taught by Will Hines\nat Online
DTSTART;TZID=America/Los_Angeles:20211118T170000
DTEND;TZID=America/Los_Angeles:20211118T190000
LOCATION:Online
END:VEVENT
BEGIN:VEVENT
UID:6773fcc1cef46dc28940b6f8f553b383
DTSTAMP:20260425T193304Z
SUMMARY:Better Scenes (3/5)
DESCRIPTION:taught by Will Hines\nat Online
DTSTART;TZID=America/Los_Angeles:20211202T170000
DTEND;TZID=America/Los_Angeles:20211202T190000
LOCATION:Online
END:VEVENT
BEGIN:VEVENT
UID:70c2edf71a0822bbc696cfc21d6f6887
DTSTAMP:20260425T193304Z
SUMMARY:Better Scenes (4/5)
DESCRIPTION:taught by Will Hines\nat Online
DTSTART;TZID=America/Los_Angeles:20211209T170000
DTEND;TZID=America/Los_Angeles:20211209T190000
LOCATION:Online
END:VEVENT
BEGIN:VEVENT
UID:7251baf6a2600d502a0105650bfc397f
DTSTAMP:20260425T193304Z
SUMMARY:Better Scenes (5/5)
DESCRIPTION:taught by Will Hines\nat Online
DTSTART;TZID=America/Los_Angeles:20211216T170000
DTEND;TZID=America/Los_Angeles:20211216T190000
LOCATION:Online
END:VEVENT
BEGIN:VTIMEZONE
TZID:America/Los_Angeles
BEGIN:DAYLIGHT
DTSTART:20260401T000000
TZNAME:PDT
TZOFFSETTO:-0700
TZOFFSETFROM:-0700
END:DAYLIGHT
END:VTIMEZONE
END:VCALENDAR
