BEGIN:VCALENDAR
PRODID:-//eluceo/ical//2.0/EN
VERSION:2.0
CALSCALE:GREGORIAN
BEGIN:VEVENT
UID:734b00fc5ce98cbd8f1c3b9f23aa63cb
DTSTAMP:20260425T194211Z
SUMMARY:What's Your Deal? - Individual Focus (1/5)
DESCRIPTION:taught by Sarah Claspell\nat Online
DTSTART;TZID=America/Los_Angeles:20211111T110000
DTEND;TZID=America/Los_Angeles:20211111T130000
LOCATION:Online
END:VEVENT
BEGIN:VEVENT
UID:6c1da900b9973f760754ed435eefec15
DTSTAMP:20260425T194211Z
SUMMARY:What's Your Deal? - Individual Focus (2/5)
DESCRIPTION:taught by Sarah Claspell\nat Online
DTSTART;TZID=America/Los_Angeles:20211118T110000
DTEND;TZID=America/Los_Angeles:20211118T130000
LOCATION:Online
END:VEVENT
BEGIN:VEVENT
UID:52bea8bd268892515b79fc422e027af9
DTSTAMP:20260425T194211Z
SUMMARY:What's Your Deal? - Individual Focus (3/5)
DESCRIPTION:taught by Sarah Claspell\nat Online
DTSTART;TZID=America/Los_Angeles:20211202T110000
DTEND;TZID=America/Los_Angeles:20211202T130000
LOCATION:Online
END:VEVENT
BEGIN:VEVENT
UID:2d20bdc680c1eb71bc23d9fdb7b12cd5
DTSTAMP:20260425T194211Z
SUMMARY:What's Your Deal? - Individual Focus (4/5)
DESCRIPTION:taught by Sarah Claspell\nat Online
DTSTART;TZID=America/Los_Angeles:20211209T110000
DTEND;TZID=America/Los_Angeles:20211209T130000
LOCATION:Online
END:VEVENT
BEGIN:VEVENT
UID:e1459ccb600944b6b12b9a874896ee43
DTSTAMP:20260425T194211Z
SUMMARY:What's Your Deal? - Individual Focus (5/5)
DESCRIPTION:taught by Sarah Claspell\nat Online
DTSTART;TZID=America/Los_Angeles:20211216T110000
DTEND;TZID=America/Los_Angeles:20211216T130000
LOCATION:Online
END:VEVENT
BEGIN:VTIMEZONE
TZID:America/Los_Angeles
BEGIN:DAYLIGHT
DTSTART:20260401T000000
TZNAME:PDT
TZOFFSETTO:-0700
TZOFFSETFROM:-0700
END:DAYLIGHT
END:VTIMEZONE
END:VCALENDAR
