BEGIN:VCALENDAR
PRODID:-//eluceo/ical//2.0/EN
VERSION:2.0
CALSCALE:GREGORIAN
BEGIN:VEVENT
UID:b9224243b2b1a6d8723f017d56fcac6b
DTSTAMP:20260421T184712Z
SUMMARY:Getting Better At Game - Advanced (1/5)
DESCRIPTION:taught by Ronnie Adrian\nat Online
DTSTART;TZID=America/Los_Angeles:20211110T170000
DTEND;TZID=America/Los_Angeles:20211110T190000
LOCATION:Online
END:VEVENT
BEGIN:VEVENT
UID:f01fb86945225a67bdf0c4f38db9c2c6
DTSTAMP:20260421T184712Z
SUMMARY:Getting Better At Game - Advanced (2/5)
DESCRIPTION:taught by Ronnie Adrian\nat Online
DTSTART;TZID=America/Los_Angeles:20211117T170000
DTEND;TZID=America/Los_Angeles:20211117T190000
LOCATION:Online
END:VEVENT
BEGIN:VEVENT
UID:93bf50e34510c7dc229ac1c81ce0a59d
DTSTAMP:20260421T184712Z
SUMMARY:Getting Better At Game - Advanced (3/5)
DESCRIPTION:taught by Ronnie Adrian\nat Online
DTSTART;TZID=America/Los_Angeles:20211124T170000
DTEND;TZID=America/Los_Angeles:20211124T190000
LOCATION:Online
END:VEVENT
BEGIN:VEVENT
UID:15227cfdcd81b416d0db03d2f1ebd2cf
DTSTAMP:20260421T184712Z
SUMMARY:Getting Better At Game - Advanced (4/5)
DESCRIPTION:taught by Ronnie Adrian\nat Online
DTSTART;TZID=America/Los_Angeles:20211201T170000
DTEND;TZID=America/Los_Angeles:20211201T190000
LOCATION:Online
END:VEVENT
BEGIN:VEVENT
UID:cd67c05e94b2419790f1bcb9c16e7a36
DTSTAMP:20260421T184712Z
SUMMARY:Getting Better At Game - Advanced (5/5)
DESCRIPTION:taught by Ronnie Adrian\nat Online
DTSTART;TZID=America/Los_Angeles:20211208T170000
DTEND;TZID=America/Los_Angeles:20211208T190000
LOCATION:Online
END:VEVENT
BEGIN:VTIMEZONE
TZID:America/Los_Angeles
BEGIN:DAYLIGHT
DTSTART:20260401T000000
TZNAME:PDT
TZOFFSETTO:-0700
TZOFFSETFROM:-0700
END:DAYLIGHT
END:VTIMEZONE
END:VCALENDAR
