BEGIN:VCALENDAR
PRODID:-//eluceo/ical//2.0/EN
VERSION:2.0
CALSCALE:GREGORIAN
BEGIN:VEVENT
UID:8060c4c9506358cf63e170aff3261246
DTSTAMP:20260425T110109Z
SUMMARY:Initiate To Get The Scene You Want (1/1)
DESCRIPTION:taught by Jim Wood$\nat Online
DTSTART;TZID=America/Los_Angeles:20211104T170000
DTEND;TZID=America/Los_Angeles:20211104T190000
LOCATION:Online
END:VEVENT
BEGIN:VTIMEZONE
TZID:America/Los_Angeles
BEGIN:DAYLIGHT
DTSTART:20260401T000000
TZNAME:PDT
TZOFFSETTO:-0700
TZOFFSETFROM:-0700
END:DAYLIGHT
END:VTIMEZONE
END:VCALENDAR
