BEGIN:VCALENDAR
PRODID:-//eluceo/ical//2.0/EN
VERSION:2.0
CALSCALE:GREGORIAN
BEGIN:VEVENT
UID:d1f4d1eecc413fdab15328866f445188
DTSTAMP:20260425T194211Z
SUMMARY:Premise Initiations (4 weeks) (1/4)
DESCRIPTION:taught by Jim Wood$\nat Online
DTSTART;TZID=America/Los_Angeles:20211123T170000
DTEND;TZID=America/Los_Angeles:20211123T190000
LOCATION:Online
END:VEVENT
BEGIN:VEVENT
UID:bbc06cd126d2aac6feae2151c2ca0acf
DTSTAMP:20260425T194211Z
SUMMARY:Premise Initiations (4 weeks) (2/4)
DESCRIPTION:taught by Jim Wood$\nat Online
DTSTART;TZID=America/Los_Angeles:20211130T170000
DTEND;TZID=America/Los_Angeles:20211130T190000
LOCATION:Online
END:VEVENT
BEGIN:VEVENT
UID:88275611a8a9825ed22225c3b4ba5d52
DTSTAMP:20260425T194211Z
SUMMARY:Premise Initiations (4 weeks) (3/4)
DESCRIPTION:taught by Jim Wood$\nat Online
DTSTART;TZID=America/Los_Angeles:20211207T170000
DTEND;TZID=America/Los_Angeles:20211207T190000
LOCATION:Online
END:VEVENT
BEGIN:VEVENT
UID:dd51bb86201c3bb73b95ced2420cb944
DTSTAMP:20260425T194211Z
SUMMARY:Premise Initiations (4 weeks) (4/4)
DESCRIPTION:taught by Jim Wood$\nat Online
DTSTART;TZID=America/Los_Angeles:20211214T170000
DTEND;TZID=America/Los_Angeles:20211214T190000
LOCATION:Online
END:VEVENT
BEGIN:VTIMEZONE
TZID:America/Los_Angeles
BEGIN:DAYLIGHT
DTSTART:20260401T000000
TZNAME:PDT
TZOFFSETTO:-0700
TZOFFSETFROM:-0700
END:DAYLIGHT
END:VTIMEZONE
END:VCALENDAR
