BEGIN:VCALENDAR
PRODID:-//eluceo/ical//2.0/EN
VERSION:2.0
CALSCALE:GREGORIAN
BEGIN:VEVENT
UID:a64a9269b9ac53d1f60b9e7c6d4b3942
DTSTAMP:20260425T194257Z
SUMMARY:Premise Initiations (3 weeks) (1/3)
DESCRIPTION:taught by Jim Wood$\nat Online
DTSTART;TZID=America/Los_Angeles:20211202T170000
DTEND;TZID=America/Los_Angeles:20211202T190000
LOCATION:Online
END:VEVENT
BEGIN:VEVENT
UID:f693fd98ca675adb8b31982816630500
DTSTAMP:20260425T194257Z
SUMMARY:Premise Initiations (3 weeks) (2/3)
DESCRIPTION:taught by Jim Wood$\nat Online
DTSTART;TZID=America/Los_Angeles:20211209T170000
DTEND;TZID=America/Los_Angeles:20211209T190000
LOCATION:Online
END:VEVENT
BEGIN:VEVENT
UID:5ebd81a8340cab10100ceea266071f20
DTSTAMP:20260425T194257Z
SUMMARY:Premise Initiations (3 weeks) (3/3)
DESCRIPTION:taught by Jim Wood$\nat Online
DTSTART;TZID=America/Los_Angeles:20211216T170000
DTEND;TZID=America/Los_Angeles:20211216T190000
LOCATION:Online
END:VEVENT
BEGIN:VTIMEZONE
TZID:America/Los_Angeles
BEGIN:DAYLIGHT
DTSTART:20260401T000000
TZNAME:PDT
TZOFFSETTO:-0700
TZOFFSETFROM:-0700
END:DAYLIGHT
END:VTIMEZONE
END:VCALENDAR
