BEGIN:VCALENDAR
PRODID:-//eluceo/ical//2.0/EN
VERSION:2.0
CALSCALE:GREGORIAN
BEGIN:VEVENT
UID:b9f253f71876e37e7eb6c18b66b13a5b
DTSTAMP:20260423T114720Z
SUMMARY:Go Ahead - Shit your Pants (1/2)
DESCRIPTION:taught by Shannon O'Neill\nat Online
DTSTART;TZID=America/Los_Angeles:20211202T150000
DTEND;TZID=America/Los_Angeles:20211202T170000
LOCATION:Online
END:VEVENT
BEGIN:VEVENT
UID:c461d918f7c22084f1a3bdb712079245
DTSTAMP:20260423T114720Z
SUMMARY:Go Ahead - Shit your Pants (2/2)
DESCRIPTION:taught by Shannon O'Neill\nat Online
DTSTART;TZID=America/Los_Angeles:20211209T150000
DTEND;TZID=America/Los_Angeles:20211209T170000
LOCATION:Online
END:VEVENT
BEGIN:VTIMEZONE
TZID:America/Los_Angeles
BEGIN:DAYLIGHT
DTSTART:20260401T000000
TZNAME:PDT
TZOFFSETTO:-0700
TZOFFSETFROM:-0700
END:DAYLIGHT
END:VTIMEZONE
END:VCALENDAR
