BEGIN:VCALENDAR
PRODID:-//eluceo/ical//2.0/EN
VERSION:2.0
CALSCALE:GREGORIAN
BEGIN:VEVENT
UID:e5317b259aa4ca77b9738acbf475f5e4
DTSTAMP:20260425T164802Z
SUMMARY:So You Want To Be A Teacher (1/7)
DESCRIPTION:taught by Jason Perez\nat Online
DTSTART;TZID=America/Los_Angeles:20220102T110000
DTEND;TZID=America/Los_Angeles:20220102T130000
LOCATION:Online
END:VEVENT
BEGIN:VEVENT
UID:2fd0865bcdf93e0174258b8d55cf2c5d
DTSTAMP:20260425T164802Z
SUMMARY:So You Want To Be A Teacher (2/7)
DESCRIPTION:taught by Jason Perez\nat Online
DTSTART;TZID=America/Los_Angeles:20220109T110000
DTEND;TZID=America/Los_Angeles:20220109T130000
LOCATION:Online
END:VEVENT
BEGIN:VEVENT
UID:38c11ba861586e95a1a86f78ecc77fe2
DTSTAMP:20260425T164802Z
SUMMARY:So You Want To Be A Teacher (3/7)
DESCRIPTION:taught by Jason Perez\nat Online
DTSTART;TZID=America/Los_Angeles:20220116T110000
DTEND;TZID=America/Los_Angeles:20220116T130000
LOCATION:Online
END:VEVENT
BEGIN:VEVENT
UID:85811d0e7b50eef7373c6cae8768b594
DTSTAMP:20260425T164802Z
SUMMARY:So You Want To Be A Teacher (4/7)
DESCRIPTION:taught by Jason Perez\nat Online
DTSTART;TZID=America/Los_Angeles:20220123T110000
DTEND;TZID=America/Los_Angeles:20220123T130000
LOCATION:Online
END:VEVENT
BEGIN:VEVENT
UID:5d0dff8e43cb5c0925c73b653a98b833
DTSTAMP:20260425T164802Z
SUMMARY:So You Want To Be A Teacher (5/7)
DESCRIPTION:taught by Jason Perez\nat Online
DTSTART;TZID=America/Los_Angeles:20220130T110000
DTEND;TZID=America/Los_Angeles:20220130T130000
LOCATION:Online
END:VEVENT
BEGIN:VEVENT
UID:69446e6b008b477d674424989e5f2019
DTSTAMP:20260425T164802Z
SUMMARY:So You Want To Be A Teacher (6/7)
DESCRIPTION:taught by Jason Perez\nat Online
DTSTART;TZID=America/Los_Angeles:20220206T110000
DTEND;TZID=America/Los_Angeles:20220206T130000
LOCATION:Online
END:VEVENT
BEGIN:VEVENT
UID:e8dd115d826697ef6c275f24920b5a2e
DTSTAMP:20260425T164802Z
SUMMARY:So You Want To Be A Teacher (7/7)
DESCRIPTION:taught by Jason Perez\nat Online
DTSTART;TZID=America/Los_Angeles:20220213T110000
DTEND;TZID=America/Los_Angeles:20220213T130000
LOCATION:Online
END:VEVENT
BEGIN:VTIMEZONE
TZID:America/Los_Angeles
BEGIN:DAYLIGHT
DTSTART:20260401T000000
TZNAME:PDT
TZOFFSETTO:-0700
TZOFFSETFROM:-0700
END:DAYLIGHT
END:VTIMEZONE
END:VCALENDAR
