BEGIN:VCALENDAR
PRODID:-//eluceo/ical//2.0/EN
VERSION:2.0
CALSCALE:GREGORIAN
BEGIN:VEVENT
UID:ea09e0ad829dba009295c2dd2e6a3ff7
DTSTAMP:20260425T164929Z
SUMMARY:The Improvised Play (1/6)
DESCRIPTION:taught by Brandon Gardner\nat Online
DTSTART;TZID=America/Los_Angeles:20220104T150000
DTEND;TZID=America/Los_Angeles:20220104T170000
LOCATION:Online
END:VEVENT
BEGIN:VEVENT
UID:3257332a935e451cfea31192e0fb86e9
DTSTAMP:20260425T164929Z
SUMMARY:The Improvised Play (2/6)
DESCRIPTION:taught by Brandon Gardner\nat Online
DTSTART;TZID=America/Los_Angeles:20220111T150000
DTEND;TZID=America/Los_Angeles:20220111T170000
LOCATION:Online
END:VEVENT
BEGIN:VEVENT
UID:fe73509a293d4b1710618f8a30f6cb63
DTSTAMP:20260425T164929Z
SUMMARY:The Improvised Play (3/6)
DESCRIPTION:taught by Brandon Gardner\nat Online
DTSTART;TZID=America/Los_Angeles:20220118T150000
DTEND;TZID=America/Los_Angeles:20220118T170000
LOCATION:Online
END:VEVENT
BEGIN:VEVENT
UID:8450a60b3d9f1b9eb511473881785bda
DTSTAMP:20260425T164929Z
SUMMARY:The Improvised Play (4/6)
DESCRIPTION:taught by Brandon Gardner\nat Online
DTSTART;TZID=America/Los_Angeles:20220125T150000
DTEND;TZID=America/Los_Angeles:20220125T170000
LOCATION:Online
END:VEVENT
BEGIN:VEVENT
UID:81bdc2bac31af4f0bbc45c812cb1c894
DTSTAMP:20260425T164929Z
SUMMARY:The Improvised Play (5/6)
DESCRIPTION:taught by Brandon Gardner\nat Online
DTSTART;TZID=America/Los_Angeles:20220201T150000
DTEND;TZID=America/Los_Angeles:20220201T170000
LOCATION:Online
END:VEVENT
BEGIN:VEVENT
UID:88af69c8e0724e4a7db3c999992f6354
DTSTAMP:20260425T164929Z
SUMMARY:The Improvised Play (6/6)
DESCRIPTION:taught by Brandon Gardner\nat Online
DTSTART;TZID=America/Los_Angeles:20220208T150000
DTEND;TZID=America/Los_Angeles:20220208T160000
LOCATION:Online
END:VEVENT
BEGIN:VTIMEZONE
TZID:America/Los_Angeles
BEGIN:DAYLIGHT
DTSTART:20260401T000000
TZNAME:PDT
TZOFFSETTO:-0700
TZOFFSETFROM:-0700
END:DAYLIGHT
END:VTIMEZONE
END:VCALENDAR
