BEGIN:VCALENDAR
PRODID:-//eluceo/ical//2.0/EN
VERSION:2.0
CALSCALE:GREGORIAN
BEGIN:VEVENT
UID:63d7305015792169dd2433e5d5068875
DTSTAMP:20260423T084555Z
SUMMARY:Opening Through Second Beats (1/6)
DESCRIPTION:taught by Jim Wood$\nat Online
DTSTART;TZID=America/Los_Angeles:20220106T170000
DTEND;TZID=America/Los_Angeles:20220106T190000
LOCATION:Online
END:VEVENT
BEGIN:VEVENT
UID:f6bda7ec80061713c55c82399dadf4e5
DTSTAMP:20260423T084555Z
SUMMARY:Opening Through Second Beats (2/6)
DESCRIPTION:taught by Jim Wood$\nat Online
DTSTART;TZID=America/Los_Angeles:20220113T170000
DTEND;TZID=America/Los_Angeles:20220113T190000
LOCATION:Online
END:VEVENT
BEGIN:VEVENT
UID:532ec91cf215ba2718c21f78595f9f61
DTSTAMP:20260423T084555Z
SUMMARY:Opening Through Second Beats (3/6)
DESCRIPTION:taught by Jim Wood$\nat Online
DTSTART;TZID=America/Los_Angeles:20220120T170000
DTEND;TZID=America/Los_Angeles:20220120T190000
LOCATION:Online
END:VEVENT
BEGIN:VEVENT
UID:be8de061f876a8747557f02b08f0eb14
DTSTAMP:20260423T084555Z
SUMMARY:Opening Through Second Beats (4/6)
DESCRIPTION:taught by Jim Wood$\nat Online
DTSTART;TZID=America/Los_Angeles:20220127T170000
DTEND;TZID=America/Los_Angeles:20220127T190000
LOCATION:Online
END:VEVENT
BEGIN:VEVENT
UID:612a70d7127cebc60a317cbb18861aa0
DTSTAMP:20260423T084555Z
SUMMARY:Opening Through Second Beats (5/6)
DESCRIPTION:taught by Jim Wood$\nat Online
DTSTART;TZID=America/Los_Angeles:20220203T170000
DTEND;TZID=America/Los_Angeles:20220203T190000
LOCATION:Online
END:VEVENT
BEGIN:VEVENT
UID:2eef21c20fc8cb9611bac4655e25b4fd
DTSTAMP:20260423T084555Z
SUMMARY:Opening Through Second Beats (6/6)
DESCRIPTION:taught by Jim Wood$\nat Online
DTSTART;TZID=America/Los_Angeles:20220210T170000
DTEND;TZID=America/Los_Angeles:20220210T190000
LOCATION:Online
END:VEVENT
BEGIN:VTIMEZONE
TZID:America/Los_Angeles
BEGIN:DAYLIGHT
DTSTART:20260401T000000
TZNAME:PDT
TZOFFSETTO:-0700
TZOFFSETFROM:-0700
END:DAYLIGHT
END:VTIMEZONE
END:VCALENDAR
