BEGIN:VCALENDAR
PRODID:-//eluceo/ical//2.0/EN
VERSION:2.0
CALSCALE:GREGORIAN
BEGIN:VEVENT
UID:3caba61c92082aa9d68d12c0242edcf5
DTSTAMP:20260425T164848Z
SUMMARY:Blow Out The World Of Your Scene (1/4)
DESCRIPTION:taught by Jim Wood$\nat Online
DTSTART;TZID=America/Los_Angeles:20220111T110000
DTEND;TZID=America/Los_Angeles:20220111T130000
LOCATION:Online
END:VEVENT
BEGIN:VEVENT
UID:bfc487798e0c61f6cefb7cfe66b0ced3
DTSTAMP:20260425T164848Z
SUMMARY:Blow Out The World Of Your Scene (2/4)
DESCRIPTION:taught by Jim Wood$\nat Online
DTSTART;TZID=America/Los_Angeles:20220118T110000
DTEND;TZID=America/Los_Angeles:20220118T130000
LOCATION:Online
END:VEVENT
BEGIN:VEVENT
UID:ac89d9af7e93b828fe7f16fcdd4a08ae
DTSTAMP:20260425T164848Z
SUMMARY:Blow Out The World Of Your Scene (3/4)
DESCRIPTION:taught by Jim Wood$\nat Online
DTSTART;TZID=America/Los_Angeles:20220125T110000
DTEND;TZID=America/Los_Angeles:20220125T130000
LOCATION:Online
END:VEVENT
BEGIN:VEVENT
UID:83399fdcebd7c3f22996e62d1a02e403
DTSTAMP:20260425T164848Z
SUMMARY:Blow Out The World Of Your Scene (4/4)
DESCRIPTION:taught by Jim Wood$\nat Online
DTSTART;TZID=America/Los_Angeles:20220208T110000
DTEND;TZID=America/Los_Angeles:20220208T130000
LOCATION:Online
END:VEVENT
BEGIN:VTIMEZONE
TZID:America/Los_Angeles
BEGIN:DAYLIGHT
DTSTART:20260401T000000
TZNAME:PDT
TZOFFSETTO:-0700
TZOFFSETFROM:-0700
END:DAYLIGHT
END:VTIMEZONE
END:VCALENDAR
