BEGIN:VCALENDAR
PRODID:-//eluceo/ical//2.0/EN
VERSION:2.0
CALSCALE:GREGORIAN
BEGIN:VEVENT
UID:70ceb7bc0f70aa4f8efac193537bd90d
DTSTAMP:20260423T101029Z
SUMMARY:2-Person Scene Workshop - Evening (1/1)
DESCRIPTION:taught by Alex Berg\nat Online
DTSTART;TZID=America/Los_Angeles:20220120T170000
DTEND;TZID=America/Los_Angeles:20220120T190000
LOCATION:Online
END:VEVENT
BEGIN:VTIMEZONE
TZID:America/Los_Angeles
BEGIN:DAYLIGHT
DTSTART:20260401T000000
TZNAME:PDT
TZOFFSETTO:-0700
TZOFFSETFROM:-0700
END:DAYLIGHT
END:VTIMEZONE
END:VCALENDAR
