BEGIN:VCALENDAR
PRODID:-//eluceo/ical//2.0/EN
VERSION:2.0
CALSCALE:GREGORIAN
BEGIN:VEVENT
UID:d98ab23b2439db7786d97f734527626e
DTSTAMP:20260425T180852Z
SUMMARY:Marine Biology Monoscene (1/4)
DESCRIPTION:taught by Alex Berg\nat Online
DTSTART;TZID=America/Los_Angeles:20220104T170000
DTEND;TZID=America/Los_Angeles:20220104T190000
LOCATION:Online
END:VEVENT
BEGIN:VEVENT
UID:d0e8debd74000cf45c0b2ae08281dde5
DTSTAMP:20260425T180853Z
SUMMARY:Marine Biology Monoscene (2/4)
DESCRIPTION:taught by Alex Berg\nat Online
DTSTART;TZID=America/Los_Angeles:20220111T170000
DTEND;TZID=America/Los_Angeles:20220111T190000
LOCATION:Online
END:VEVENT
BEGIN:VEVENT
UID:448c1f4b71ba0e4cce5ca1acca4da349
DTSTAMP:20260425T180853Z
SUMMARY:Marine Biology Monoscene (3/4)
DESCRIPTION:taught by Alex Berg\nat Online
DTSTART;TZID=America/Los_Angeles:20220118T170000
DTEND;TZID=America/Los_Angeles:20220118T190000
LOCATION:Online
END:VEVENT
BEGIN:VEVENT
UID:84bfc31310ba8308468b13199197fb5b
DTSTAMP:20260425T180853Z
SUMMARY:Marine Biology Monoscene (4/4)
DESCRIPTION:taught by Alex Berg\nat Online
DTSTART;TZID=America/Los_Angeles:20220125T170000
DTEND;TZID=America/Los_Angeles:20220125T190000
LOCATION:Online
END:VEVENT
BEGIN:VTIMEZONE
TZID:America/Los_Angeles
BEGIN:DAYLIGHT
DTSTART:20260401T000000
TZNAME:PDT
TZOFFSETTO:-0700
TZOFFSETFROM:-0700
END:DAYLIGHT
END:VTIMEZONE
END:VCALENDAR
