BEGIN:VCALENDAR
PRODID:-//eluceo/ical//2.0/EN
VERSION:2.0
CALSCALE:GREGORIAN
BEGIN:VEVENT
UID:4acf7a8158cb149c69cbadc7ea5171b9
DTSTAMP:20260425T164751Z
SUMMARY:Fun Forms (advanced) - AM (1/5)
DESCRIPTION:taught by Will Hines\nat Online
DTSTART;TZID=America/Los_Angeles:20220105T110000
DTEND;TZID=America/Los_Angeles:20220105T130000
LOCATION:Online
END:VEVENT
BEGIN:VEVENT
UID:0c106f3003196a6f0b3aceee64787672
DTSTAMP:20260425T164751Z
SUMMARY:Fun Forms (advanced) - AM (2/5)
DESCRIPTION:taught by Will Hines\nat Online
DTSTART;TZID=America/Los_Angeles:20220112T110000
DTEND;TZID=America/Los_Angeles:20220112T130000
LOCATION:Online
END:VEVENT
BEGIN:VEVENT
UID:41d4f7f4333e35d2b4200dd30e8e5dc5
DTSTAMP:20260425T164751Z
SUMMARY:Fun Forms (advanced) - AM (3/5)
DESCRIPTION:taught by Will Hines\nat Online
DTSTART;TZID=America/Los_Angeles:20220119T110000
DTEND;TZID=America/Los_Angeles:20220119T130000
LOCATION:Online
END:VEVENT
BEGIN:VEVENT
UID:7455b88c1d4d133c843299d63e259563
DTSTAMP:20260425T164751Z
SUMMARY:Fun Forms (advanced) - AM (4/5)
DESCRIPTION:taught by Will Hines\nat Online
DTSTART;TZID=America/Los_Angeles:20220126T110000
DTEND;TZID=America/Los_Angeles:20220126T130000
LOCATION:Online
END:VEVENT
BEGIN:VEVENT
UID:3ddd28fd2ac0776a6f91299827d69712
DTSTAMP:20260425T164751Z
SUMMARY:Fun Forms (advanced) - AM (5/5)
DESCRIPTION:taught by Will Hines\nat Online
DTSTART;TZID=America/Los_Angeles:20220202T110000
DTEND;TZID=America/Los_Angeles:20220202T130000
LOCATION:Online
END:VEVENT
BEGIN:VTIMEZONE
TZID:America/Los_Angeles
BEGIN:DAYLIGHT
DTSTART:20260401T000000
TZNAME:PDT
TZOFFSETTO:-0700
TZOFFSETFROM:-0700
END:DAYLIGHT
END:VTIMEZONE
END:VCALENDAR
