BEGIN:VCALENDAR
PRODID:-//eluceo/ical//2.0/EN
VERSION:2.0
CALSCALE:GREGORIAN
BEGIN:VEVENT
UID:9ef61d558207b078a7906152ae958ea3
DTSTAMP:20260425T164802Z
SUMMARY:Fun Forms (advanced) - PM (1/5)
DESCRIPTION:taught by Will Hines\nat Online
DTSTART;TZID=America/Los_Angeles:20220105T170000
DTEND;TZID=America/Los_Angeles:20220105T190000
LOCATION:Online
END:VEVENT
BEGIN:VEVENT
UID:0d75f7e4f89186ac9c52b84c28b95253
DTSTAMP:20260425T164802Z
SUMMARY:Fun Forms (advanced) - PM (2/5)
DESCRIPTION:taught by Will Hines\nat Online
DTSTART;TZID=America/Los_Angeles:20220112T170000
DTEND;TZID=America/Los_Angeles:20220112T190000
LOCATION:Online
END:VEVENT
BEGIN:VEVENT
UID:c54340d15f2b5d53f4afac6b187f3047
DTSTAMP:20260425T164802Z
SUMMARY:Fun Forms (advanced) - PM (3/5)
DESCRIPTION:taught by Will Hines\nat Online
DTSTART;TZID=America/Los_Angeles:20220119T170000
DTEND;TZID=America/Los_Angeles:20220119T190000
LOCATION:Online
END:VEVENT
BEGIN:VEVENT
UID:b34f796ea6bf61abccfbf227b99e95de
DTSTAMP:20260425T164802Z
SUMMARY:Fun Forms (advanced) - PM (4/5)
DESCRIPTION:taught by Will Hines\nat Online
DTSTART;TZID=America/Los_Angeles:20220126T170000
DTEND;TZID=America/Los_Angeles:20220126T190000
LOCATION:Online
END:VEVENT
BEGIN:VEVENT
UID:0ffc888ddbd2b97ca0563b06f9b0ce08
DTSTAMP:20260425T164802Z
SUMMARY:Fun Forms (advanced) - PM (5/5)
DESCRIPTION:taught by Will Hines\nat Online
DTSTART;TZID=America/Los_Angeles:20220202T170000
DTEND;TZID=America/Los_Angeles:20220202T190000
LOCATION:Online
END:VEVENT
BEGIN:VTIMEZONE
TZID:America/Los_Angeles
BEGIN:DAYLIGHT
DTSTART:20260401T000000
TZNAME:PDT
TZOFFSETTO:-0700
TZOFFSETFROM:-0700
END:DAYLIGHT
END:VTIMEZONE
END:VCALENDAR
