BEGIN:VCALENDAR
PRODID:-//eluceo/ical//2.0/EN
VERSION:2.0
CALSCALE:GREGORIAN
BEGIN:VEVENT
UID:d651dccf755d7ca74f35bb8c1ad8ace6
DTSTAMP:20260423T084511Z
SUMMARY:Initiations! (1/5)
DESCRIPTION:taught by Sarah Claspell\nat Online
DTSTART;TZID=America/Los_Angeles:20220106T110000
DTEND;TZID=America/Los_Angeles:20220106T130000
LOCATION:Online
END:VEVENT
BEGIN:VEVENT
UID:095fd35f6608358390eac5db49390020
DTSTAMP:20260423T084511Z
SUMMARY:Initiations! (2/5)
DESCRIPTION:taught by Sarah Claspell\nat Online
DTSTART;TZID=America/Los_Angeles:20220113T110000
DTEND;TZID=America/Los_Angeles:20220113T130000
LOCATION:Online
END:VEVENT
BEGIN:VEVENT
UID:2d8ffceeecad22ba3cd4782d0b547894
DTSTAMP:20260423T084511Z
SUMMARY:Initiations! (3/5)
DESCRIPTION:taught by Sarah Claspell\nat Online
DTSTART;TZID=America/Los_Angeles:20220120T110000
DTEND;TZID=America/Los_Angeles:20220120T130000
LOCATION:Online
END:VEVENT
BEGIN:VEVENT
UID:290b6b1c7f258332b072aceb904b8cdb
DTSTAMP:20260423T084511Z
SUMMARY:Initiations! (4/5)
DESCRIPTION:taught by Sarah Claspell\nat Online
DTSTART;TZID=America/Los_Angeles:20220127T110000
DTEND;TZID=America/Los_Angeles:20220127T130000
LOCATION:Online
END:VEVENT
BEGIN:VEVENT
UID:86f01de8845bbc52087c3c073b864d4e
DTSTAMP:20260423T084511Z
SUMMARY:Initiations! (5/5)
DESCRIPTION:taught by Sarah Claspell\nat Online
DTSTART;TZID=America/Los_Angeles:20220203T110000
DTEND;TZID=America/Los_Angeles:20220203T130000
LOCATION:Online
END:VEVENT
BEGIN:VTIMEZONE
TZID:America/Los_Angeles
BEGIN:DAYLIGHT
DTSTART:20260401T000000
TZNAME:PDT
TZOFFSETTO:-0700
TZOFFSETFROM:-0700
END:DAYLIGHT
END:VTIMEZONE
END:VCALENDAR
