BEGIN:VCALENDAR
PRODID:-//eluceo/ical//2.0/EN
VERSION:2.0
CALSCALE:GREGORIAN
BEGIN:VEVENT
UID:dbb2ff2a80afe4455eb0eaddf675593b
DTSTAMP:20260425T152608Z
SUMMARY:Metallic Pretty Flower (1/9)
DESCRIPTION:taught by Billy Merritt\nat Online
DTSTART;TZID=America/Los_Angeles:20220107T120000
DTEND;TZID=America/Los_Angeles:20220107T140000
LOCATION:Online
END:VEVENT
BEGIN:VEVENT
UID:1bd3c3d216054e35c511fe804a7756b9
DTSTAMP:20260425T152608Z
SUMMARY:Metallic Pretty Flower (2/9)
DESCRIPTION:taught by Billy Merritt\nat Online
DTSTART;TZID=America/Los_Angeles:20220114T120000
DTEND;TZID=America/Los_Angeles:20220114T140000
LOCATION:Online
END:VEVENT
BEGIN:VEVENT
UID:4d09c7f679840b2fab96a4d49e1f01be
DTSTAMP:20260425T152608Z
SUMMARY:Metallic Pretty Flower (3/9)
DESCRIPTION:taught by Billy Merritt\nat Online
DTSTART;TZID=America/Los_Angeles:20220121T120000
DTEND;TZID=America/Los_Angeles:20220121T140000
LOCATION:Online
END:VEVENT
BEGIN:VEVENT
UID:ece62d35b603b97f92aa974493ca6ef3
DTSTAMP:20260425T152608Z
SUMMARY:Metallic Pretty Flower (4/9)
DESCRIPTION:taught by Billy Merritt\nat Online
DTSTART;TZID=America/Los_Angeles:20220128T120000
DTEND;TZID=America/Los_Angeles:20220128T140000
LOCATION:Online
END:VEVENT
BEGIN:VEVENT
UID:39eb8bb788553f526ce538ed872b0460
DTSTAMP:20260425T152608Z
SUMMARY:Metallic Pretty Flower (5/9)
DESCRIPTION:taught by Billy Merritt\nat Online
DTSTART;TZID=America/Los_Angeles:20220204T120000
DTEND;TZID=America/Los_Angeles:20220204T140000
LOCATION:Online
END:VEVENT
BEGIN:VEVENT
UID:fb75eef4cb1d2206e62e8a299beaca70
DTSTAMP:20260425T152608Z
SUMMARY:Metallic Pretty Flower (6/9)
DESCRIPTION:taught by Billy Merritt\nat Online
DTSTART;TZID=America/Los_Angeles:20220211T120000
DTEND;TZID=America/Los_Angeles:20220211T140000
LOCATION:Online
END:VEVENT
BEGIN:VEVENT
UID:a939185909fbe5f7acb669734e9f5482
DTSTAMP:20260425T152608Z
SUMMARY:Metallic Pretty Flower (7/9)
DESCRIPTION:taught by Billy Merritt\nat Online
DTSTART;TZID=America/Los_Angeles:20220218T120000
DTEND;TZID=America/Los_Angeles:20220218T130000
LOCATION:Online
END:VEVENT
BEGIN:VEVENT
UID:cf9f0675ec7e540164cfb784651318db
DTSTAMP:20260425T152608Z
SUMMARY:Metallic Pretty Flower (8/9)
DESCRIPTION:taught by Billy Merritt\nat Online
DTSTART;TZID=America/Los_Angeles:20220225T120000
DTEND;TZID=America/Los_Angeles:20220225T130000
LOCATION:Online
END:VEVENT
BEGIN:VEVENT
UID:89fda2acb20d2c031fd72b1dd4f32bf2
DTSTAMP:20260425T152608Z
SUMMARY:Metallic Pretty Flower (9/9)
DESCRIPTION:taught by Billy Merritt\nat Online
DTSTART;TZID=America/Los_Angeles:20220304T120000
DTEND;TZID=America/Los_Angeles:20220304T130000
LOCATION:Online
END:VEVENT
BEGIN:VTIMEZONE
TZID:America/Los_Angeles
BEGIN:DAYLIGHT
DTSTART:20260401T000000
TZNAME:PDT
TZOFFSETTO:-0700
TZOFFSETFROM:-0700
END:DAYLIGHT
END:VTIMEZONE
END:VCALENDAR
