BEGIN:VCALENDAR
PRODID:-//eluceo/ical//2.0/EN
VERSION:2.0
CALSCALE:GREGORIAN
BEGIN:VEVENT
UID:1fe15fdcc78f06a9cacf80ce02806ea2
DTSTAMP:20260423T100600Z
SUMMARY:Go Ahead - Shit your Pants (1/2)
DESCRIPTION:taught by Shannon O'Neill\nat Online
DTSTART;TZID=America/Los_Angeles:20220113T150000
DTEND;TZID=America/Los_Angeles:20220113T170000
LOCATION:Online
END:VEVENT
BEGIN:VEVENT
UID:ad134c06bc74ba4600c16d9c498559bf
DTSTAMP:20260423T100600Z
SUMMARY:Go Ahead - Shit your Pants (2/2)
DESCRIPTION:taught by Shannon O'Neill\nat Online
DTSTART;TZID=America/Los_Angeles:20220120T150000
DTEND;TZID=America/Los_Angeles:20220120T170000
LOCATION:Online
END:VEVENT
BEGIN:VTIMEZONE
TZID:America/Los_Angeles
BEGIN:DAYLIGHT
DTSTART:20260401T000000
TZNAME:PDT
TZOFFSETTO:-0700
TZOFFSETFROM:-0700
END:DAYLIGHT
END:VTIMEZONE
END:VCALENDAR
