BEGIN:VCALENDAR
PRODID:-//eluceo/ical//2.0/EN
VERSION:2.0
CALSCALE:GREGORIAN
BEGIN:VEVENT
UID:ca4a89a5d89e8ede40bdec010a734aa2
DTSTAMP:20260425T152608Z
SUMMARY:Follow The Fun (1/4)
DESCRIPTION:taught by Jim Wood$\nat Online
DTSTART;TZID=America/Los_Angeles:20220206T170000
DTEND;TZID=America/Los_Angeles:20220206T190000
LOCATION:Online
END:VEVENT
BEGIN:VEVENT
UID:af1163ad0389ed15715f93dc59b291a9
DTSTAMP:20260425T152608Z
SUMMARY:Follow The Fun (2/4)
DESCRIPTION:taught by Jim Wood$\nat Online
DTSTART;TZID=America/Los_Angeles:20220213T170000
DTEND;TZID=America/Los_Angeles:20220213T190000
LOCATION:Online
END:VEVENT
BEGIN:VEVENT
UID:21d4b1f8449125c00ca57e15e36b259f
DTSTAMP:20260425T152608Z
SUMMARY:Follow The Fun (3/4)
DESCRIPTION:taught by Jim Wood$\nat Online
DTSTART;TZID=America/Los_Angeles:20220220T170000
DTEND;TZID=America/Los_Angeles:20220220T190000
LOCATION:Online
END:VEVENT
BEGIN:VEVENT
UID:30d6be929adb3caecb52779866110fbc
DTSTAMP:20260425T152608Z
SUMMARY:Follow The Fun (4/4)
DESCRIPTION:taught by Jim Wood$\nat Online
DTSTART;TZID=America/Los_Angeles:20220227T170000
DTEND;TZID=America/Los_Angeles:20220227T190000
LOCATION:Online
END:VEVENT
BEGIN:VTIMEZONE
TZID:America/Los_Angeles
BEGIN:DAYLIGHT
DTSTART:20260401T000000
TZNAME:PDT
TZOFFSETTO:-0700
TZOFFSETFROM:-0700
END:DAYLIGHT
END:VTIMEZONE
END:VCALENDAR
