BEGIN:VCALENDAR
PRODID:-//eluceo/ical//2.0/EN
VERSION:2.0
CALSCALE:GREGORIAN
BEGIN:VEVENT
UID:622b66e930b223edfda1c7184d127e8e
DTSTAMP:20260425T164802Z
SUMMARY:Go Ahead - Shit your Pants (1/2)
DESCRIPTION:taught by Shannon O'Neill\nat Online
DTSTART;TZID=America/Los_Angeles:20220203T150000
DTEND;TZID=America/Los_Angeles:20220203T170000
LOCATION:Online
END:VEVENT
BEGIN:VEVENT
UID:47159faba0e3c8e46bc48c4f3bfcd9ca
DTSTAMP:20260425T164802Z
SUMMARY:Go Ahead - Shit your Pants (2/2)
DESCRIPTION:taught by Shannon O'Neill\nat Online
DTSTART;TZID=America/Los_Angeles:20220210T150000
DTEND;TZID=America/Los_Angeles:20220210T170000
LOCATION:Online
END:VEVENT
BEGIN:VTIMEZONE
TZID:America/Los_Angeles
BEGIN:DAYLIGHT
DTSTART:20260401T000000
TZNAME:PDT
TZOFFSETTO:-0700
TZOFFSETFROM:-0700
END:DAYLIGHT
END:VTIMEZONE
END:VCALENDAR
