BEGIN:VCALENDAR
PRODID:-//eluceo/ical//2.0/EN
VERSION:2.0
CALSCALE:GREGORIAN
BEGIN:VEVENT
UID:50679de2ab74a9113d8061cd6899772a
DTSTAMP:20260423T100723Z
SUMMARY:Grab Bag Saturday (1/1)
DESCRIPTION:taught by Shannon O'Neill\nat Online
DTSTART;TZID=America/Los_Angeles:20220129T100000
DTEND;TZID=America/Los_Angeles:20220129T120000
LOCATION:Online
END:VEVENT
BEGIN:VTIMEZONE
TZID:America/Los_Angeles
BEGIN:DAYLIGHT
DTSTART:20260401T000000
TZNAME:PDT
TZOFFSETTO:-0700
TZOFFSETFROM:-0700
END:DAYLIGHT
END:VTIMEZONE
END:VCALENDAR
