BEGIN:VCALENDAR
PRODID:-//eluceo/ical//2.0/EN
VERSION:2.0
CALSCALE:GREGORIAN
BEGIN:VEVENT
UID:ecd0e4931fa62bc6dd830a62be4c72be
DTSTAMP:20260425T164751Z
SUMMARY:The Experiment (1/2)
DESCRIPTION:taught by Michelle Gilliam\nat Online
DTSTART;TZID=America/Los_Angeles:20220206T170000
DTEND;TZID=America/Los_Angeles:20220206T190000
LOCATION:Online
END:VEVENT
BEGIN:VEVENT
UID:24d5528a0f5baa454c89b557aafff562
DTSTAMP:20260425T164751Z
SUMMARY:The Experiment (2/2)
DESCRIPTION:taught by Michelle Gilliam\nat Online
DTSTART;TZID=America/Los_Angeles:20220213T170000
DTEND;TZID=America/Los_Angeles:20220213T190000
LOCATION:Online
END:VEVENT
BEGIN:VTIMEZONE
TZID:America/Los_Angeles
BEGIN:DAYLIGHT
DTSTART:20260401T000000
TZNAME:PDT
TZOFFSETTO:-0700
TZOFFSETFROM:-0700
END:DAYLIGHT
END:VTIMEZONE
END:VCALENDAR
