BEGIN:VCALENDAR
PRODID:-//eluceo/ical//2.0/EN
VERSION:2.0
CALSCALE:GREGORIAN
BEGIN:VEVENT
UID:4e95056ffad9ceb557c56fa808414e8d
DTSTAMP:20260423T060749Z
SUMMARY:Advanced Sketch (1/5)
DESCRIPTION:taught by Nate Smith\nat Online
DTSTART;TZID=America/Los_Angeles:20220306T100000
DTEND;TZID=America/Los_Angeles:20220306T130000
LOCATION:Online
END:VEVENT
BEGIN:VEVENT
UID:a7e0baabf67db8f53e3389314a3e1c31
DTSTAMP:20260423T060749Z
SUMMARY:Advanced Sketch (2/5)
DESCRIPTION:taught by Nate Smith\nat Online
DTSTART;TZID=America/Los_Angeles:20220313T100000
DTEND;TZID=America/Los_Angeles:20220313T130000
LOCATION:Online
END:VEVENT
BEGIN:VEVENT
UID:b385c2cf1529f623043c4ec427da0e6e
DTSTAMP:20260423T060749Z
SUMMARY:Advanced Sketch (3/5)
DESCRIPTION:taught by Nate Smith\nat Online
DTSTART;TZID=America/Los_Angeles:20220320T100000
DTEND;TZID=America/Los_Angeles:20220320T130000
LOCATION:Online
END:VEVENT
BEGIN:VEVENT
UID:5eccdbdd8b4134c0ab441e67a0c0820a
DTSTAMP:20260423T060749Z
SUMMARY:Advanced Sketch (4/5)
DESCRIPTION:taught by Nate Smith\nat Online
DTSTART;TZID=America/Los_Angeles:20220403T100000
DTEND;TZID=America/Los_Angeles:20220403T130000
LOCATION:Online
END:VEVENT
BEGIN:VEVENT
UID:c7360d4a9e4ca90576a1f30bf30172a7
DTSTAMP:20260423T060749Z
SUMMARY:Advanced Sketch (5/5)
DESCRIPTION:taught by Nate Smith\nat Online
DTSTART;TZID=America/Los_Angeles:20220410T100000
DTEND;TZID=America/Los_Angeles:20220410T130000
LOCATION:Online
END:VEVENT
BEGIN:VTIMEZONE
TZID:America/Los_Angeles
BEGIN:DAYLIGHT
DTSTART:20260401T000000
TZNAME:PDT
TZOFFSETTO:-0700
TZOFFSETFROM:-0700
END:DAYLIGHT
END:VTIMEZONE
END:VCALENDAR
